BEGIN:VCALENDAR
VERSION:2.0
PRODID:-//Seaway Senior Citizens Club - ECPv6.15.20//NONSGML v1.0//EN
CALSCALE:GREGORIAN
METHOD:PUBLISH
X-WR-CALNAME:Seaway Senior Citizens Club
X-ORIGINAL-URL:https://seawayseniors.ca
X-WR-CALDESC:Events for Seaway Senior Citizens Club
REFRESH-INTERVAL;VALUE=DURATION:PT1H
X-Robots-Tag:noindex
X-PUBLISHED-TTL:PT1H
BEGIN:VTIMEZONE
TZID:America/Toronto
BEGIN:DAYLIGHT
TZOFFSETFROM:-0500
TZOFFSETTO:-0400
TZNAME:EDT
DTSTART:20230312T070000
END:DAYLIGHT
BEGIN:STANDARD
TZOFFSETFROM:-0400
TZOFFSETTO:-0500
TZNAME:EST
DTSTART:20231105T060000
END:STANDARD
BEGIN:DAYLIGHT
TZOFFSETFROM:-0500
TZOFFSETTO:-0400
TZNAME:EDT
DTSTART:20240310T070000
END:DAYLIGHT
BEGIN:STANDARD
TZOFFSETFROM:-0400
TZOFFSETTO:-0500
TZNAME:EST
DTSTART:20241103T060000
END:STANDARD
BEGIN:DAYLIGHT
TZOFFSETFROM:-0500
TZOFFSETTO:-0400
TZNAME:EDT
DTSTART:20250309T070000
END:DAYLIGHT
BEGIN:STANDARD
TZOFFSETFROM:-0400
TZOFFSETTO:-0500
TZNAME:EST
DTSTART:20251102T060000
END:STANDARD
BEGIN:DAYLIGHT
TZOFFSETFROM:-0500
TZOFFSETTO:-0400
TZNAME:EDT
DTSTART:20260308T070000
END:DAYLIGHT
BEGIN:STANDARD
TZOFFSETFROM:-0400
TZOFFSETTO:-0500
TZNAME:EST
DTSTART:20261101T060000
END:STANDARD
END:VTIMEZONE
BEGIN:VEVENT
DTSTART;TZID=America/Toronto:20251219T170000
DTEND;TZID=America/Toronto:20251219T230000
DTSTAMP:20260423T112728
CREATED:20251021T130804Z
LAST-MODIFIED:20251021T130804Z
UID:10000845-1766163600-1766185200@seawayseniors.ca
SUMMARY:Christmas Dinner & Party
DESCRIPTION:
URL:https://seawayseniors.ca/event/christmas-dinner-party/
LOCATION:Centre Charles-Emile Claude\, 146b Chevrier Street\, Cornwall\, Ontario\, Canada
CATEGORIES:Leisure,Meals,Social
END:VEVENT
BEGIN:VEVENT
DTSTART;TZID=America/Toronto:20241220T170000
DTEND;TZID=America/Toronto:20241220T230000
DTSTAMP:20260423T112729
CREATED:20241202T163608Z
LAST-MODIFIED:20241202T163655Z
UID:10000802-1734714000-1734735600@seawayseniors.ca
SUMMARY:Chritmas Dinner and Party
DESCRIPTION:
URL:https://seawayseniors.ca/event/chritmas-dinner-and-party/
LOCATION:Centre Charles-Emile Claude\, 146b Chevrier Street\, Cornwall\, Ontario\, Canada
CATEGORIES:Social
END:VEVENT
END:VCALENDAR