BEGIN:VCALENDAR
VERSION:2.0
PRODID:-//Seaway Senior Citizens Club - ECPv6.15.20//NONSGML v1.0//EN
CALSCALE:GREGORIAN
METHOD:PUBLISH
X-WR-CALNAME:Seaway Senior Citizens Club
X-ORIGINAL-URL:https://seawayseniors.ca
X-WR-CALDESC:Events for Seaway Senior Citizens Club
REFRESH-INTERVAL;VALUE=DURATION:PT1H
X-Robots-Tag:noindex
X-PUBLISHED-TTL:PT1H
BEGIN:VTIMEZONE
TZID:America/Toronto
BEGIN:DAYLIGHT
TZOFFSETFROM:-0500
TZOFFSETTO:-0400
TZNAME:EDT
DTSTART:20210314T070000
END:DAYLIGHT
BEGIN:STANDARD
TZOFFSETFROM:-0400
TZOFFSETTO:-0500
TZNAME:EST
DTSTART:20211107T060000
END:STANDARD
BEGIN:DAYLIGHT
TZOFFSETFROM:-0500
TZOFFSETTO:-0400
TZNAME:EDT
DTSTART:20220313T070000
END:DAYLIGHT
BEGIN:STANDARD
TZOFFSETFROM:-0400
TZOFFSETTO:-0500
TZNAME:EST
DTSTART:20221106T060000
END:STANDARD
BEGIN:DAYLIGHT
TZOFFSETFROM:-0500
TZOFFSETTO:-0400
TZNAME:EDT
DTSTART:20230312T070000
END:DAYLIGHT
BEGIN:STANDARD
TZOFFSETFROM:-0400
TZOFFSETTO:-0500
TZNAME:EST
DTSTART:20231105T060000
END:STANDARD
BEGIN:DAYLIGHT
TZOFFSETFROM:-0500
TZOFFSETTO:-0400
TZNAME:EDT
DTSTART:20240310T070000
END:DAYLIGHT
BEGIN:STANDARD
TZOFFSETFROM:-0400
TZOFFSETTO:-0500
TZNAME:EST
DTSTART:20241103T060000
END:STANDARD
END:VTIMEZONE
BEGIN:VEVENT
DTSTART;TZID=America/Toronto:20230606T130000
DTEND;TZID=America/Toronto:20230606T150000
DTSTAMP:20260423T144039
CREATED:20230501T151706Z
LAST-MODIFIED:20230508T203454Z
UID:10000719-1686056400-1686063600@seawayseniors.ca
SUMMARY:Birds in your Backyard
DESCRIPTION:
URL:https://seawayseniors.ca/event/birds-in-your-backyard/
LOCATION:Seaway Seniors Club\, 506 Pitt St\, Cornwall\, ON\, K6J 3R5\, Canada
CATEGORIES:Education
END:VEVENT
BEGIN:VEVENT
DTSTART;TZID=America/Toronto:20230531T190000
DTEND;TZID=America/Toronto:20230531T190000
DTSTAMP:20260423T144039
CREATED:20230508T203713Z
LAST-MODIFIED:20230508T203713Z
UID:10000720-1685559600-1685559600@seawayseniors.ca
SUMMARY:Paint Nite
DESCRIPTION:
URL:https://seawayseniors.ca/event/paint-nite/
LOCATION:Seaway Seniors Club\, 506 Pitt St\, Cornwall\, ON\, K6J 3R5\, Canada
CATEGORIES:Art
END:VEVENT
BEGIN:VEVENT
DTSTART;TZID=America/Toronto:20230530T130000
DTEND;TZID=America/Toronto:20230530T150000
DTSTAMP:20260423T144039
CREATED:20230420T203435Z
LAST-MODIFIED:20230420T203435Z
UID:10000717-1685451600-1685458800@seawayseniors.ca
SUMMARY:Writing Your Stories
DESCRIPTION:
URL:https://seawayseniors.ca/event/writing-your-stories/2023-05-30/
LOCATION:Seaway Seniors Club\, 506 Pitt St\, Cornwall\, ON\, K6J 3R5\, Canada
CATEGORIES:Education
END:VEVENT
BEGIN:VEVENT
DTSTART;TZID=America/Toronto:20230523T130000
DTEND;TZID=America/Toronto:20230523T150000
DTSTAMP:20260423T144039
CREATED:20230117T145227Z
LAST-MODIFIED:20230420T202800Z
UID:10000710-1684846800-1684854000@seawayseniors.ca
SUMMARY:Victoria Day Tea Party
DESCRIPTION:
URL:https://seawayseniors.ca/event/victoria-day-tea-party/
LOCATION:Seaway Seniors Club\, 506 Pitt St\, Cornwall\, ON\, K6J 3R5\, Canada
CATEGORIES:Leisure
END:VEVENT
BEGIN:VEVENT
DTSTART;TZID=America/Toronto:20230516T130000
DTEND;TZID=America/Toronto:20230516T150000
DTSTAMP:20260423T144039
CREATED:20230420T203435Z
LAST-MODIFIED:20230420T203435Z
UID:10000716-1684242000-1684249200@seawayseniors.ca
SUMMARY:Writing Your Stories
DESCRIPTION:
URL:https://seawayseniors.ca/event/writing-your-stories/2023-05-16/
LOCATION:Seaway Seniors Club\, 506 Pitt St\, Cornwall\, ON\, K6J 3R5\, Canada
CATEGORIES:Education
END:VEVENT
BEGIN:VEVENT
DTSTART;TZID=America/Toronto:20230509T130000
DTEND;TZID=America/Toronto:20230509T170000
DTSTAMP:20260423T144039
CREATED:20230501T151500Z
LAST-MODIFIED:20230501T151545Z
UID:10000718-1683637200-1683651600@seawayseniors.ca
SUMMARY:Country and Folk Classics
DESCRIPTION:
URL:https://seawayseniors.ca/event/country-folk-classics/
LOCATION:Seaway Seniors Club\, 506 Pitt St\, Cornwall\, ON\, K6J 3R5\, Canada
CATEGORIES:Music
END:VEVENT
BEGIN:VEVENT
DTSTART;TZID=America/Toronto:20230503T090000
DTEND;TZID=America/Toronto:20230503T120000
DTSTAMP:20260423T144039
CREATED:20230321T184619Z
LAST-MODIFIED:20230321T184619Z
UID:10000715-1683104400-1683115200@seawayseniors.ca
SUMMARY:Small Project Quilting with Lynn Matthews
DESCRIPTION:
URL:https://seawayseniors.ca/event/small-project-quilting-with-lynn-matthews/
LOCATION:Seaway Seniors Club\, 506 Pitt St\, Cornwall\, ON\, K6J 3R5\, Canada
CATEGORIES:Art,Education
END:VEVENT
BEGIN:VEVENT
DTSTART;TZID=America/Toronto:20230502T130000
DTEND;TZID=America/Toronto:20230502T150000
DTSTAMP:20260423T144039
CREATED:20230321T184349Z
LAST-MODIFIED:20230321T184349Z
UID:10000714-1683032400-1683039600@seawayseniors.ca
SUMMARY:A Healthy Home with Karen Douglass Cooper
DESCRIPTION:
URL:https://seawayseniors.ca/event/a-healthy-home/
LOCATION:Seaway Seniors Club\, 506 Pitt St\, Cornwall\, ON\, K6J 3R5\, Canada
CATEGORIES:Education
END:VEVENT
BEGIN:VEVENT
DTSTART;TZID=America/Toronto:20230425T130000
DTEND;TZID=America/Toronto:20230425T150000
DTSTAMP:20260423T144039
CREATED:20230321T180745Z
LAST-MODIFIED:20230321T184651Z
UID:10000713-1682427600-1682434800@seawayseniors.ca
SUMMARY:Way to Grow with Fred Deschamps
DESCRIPTION:
URL:https://seawayseniors.ca/event/way-to-grow/2023-04-25/
LOCATION:Seaway Seniors Club\, 506 Pitt St\, Cornwall\, ON\, K6J 3R5\, Canada
CATEGORIES:Education,Leisure
END:VEVENT
BEGIN:VEVENT
DTSTART;TZID=America/Toronto:20230411T130000
DTEND;TZID=America/Toronto:20230411T150000
DTSTAMP:20260423T144039
CREATED:20230321T180745Z
LAST-MODIFIED:20230321T184651Z
UID:10000712-1681218000-1681225200@seawayseniors.ca
SUMMARY:Way to Grow with Fred Deschamps
DESCRIPTION:
URL:https://seawayseniors.ca/event/way-to-grow/2023-04-11/
LOCATION:Seaway Seniors Club\, 506 Pitt St\, Cornwall\, ON\, K6J 3R5\, Canada
CATEGORIES:Education,Leisure
END:VEVENT
BEGIN:VEVENT
DTSTART;TZID=America/Toronto:20230404T170000
DTEND;TZID=America/Toronto:20230404T170000
DTSTAMP:20260423T144039
CREATED:20230321T180531Z
LAST-MODIFIED:20230321T190236Z
UID:10000711-1680627600-1680627600@seawayseniors.ca
SUMMARY:Easter Dinner
DESCRIPTION:
URL:https://seawayseniors.ca/event/easter-dinner/
LOCATION:Seaway Seniors Club\, 506 Pitt St\, Cornwall\, ON\, K6J 3R5\, Canada
CATEGORIES:Meals
END:VEVENT
BEGIN:VEVENT
DTSTART;TZID=America/Toronto:20230314T160000
DTEND;TZID=America/Toronto:20230314T160000
DTSTAMP:20260423T144039
CREATED:20230117T145058Z
LAST-MODIFIED:20230117T145058Z
UID:10000709-1678809600-1678809600@seawayseniors.ca
SUMMARY:St Patrick's Day Dinner
DESCRIPTION:
URL:https://seawayseniors.ca/event/st-patricks-day-dinner/
LOCATION:Seaway Seniors Club\, 506 Pitt St\, Cornwall\, ON\, K6J 3R5\, Canada
CATEGORIES:Meals
END:VEVENT
BEGIN:VEVENT
DTSTART;TZID=America/Toronto:20230221T160000
DTEND;TZID=America/Toronto:20230221T160000
DTSTAMP:20260423T144039
CREATED:20230117T144848Z
LAST-MODIFIED:20230117T144848Z
UID:10000708-1676995200-1676995200@seawayseniors.ca
SUMMARY:Sugarbush Supper
DESCRIPTION:
URL:https://seawayseniors.ca/event/sugarbush-supper/
LOCATION:Seaway Seniors Club\, 506 Pitt St\, Cornwall\, ON\, K6J 3R5\, Canada
CATEGORIES:Meals
END:VEVENT
BEGIN:VEVENT
DTSTART;TZID=America/Toronto:20230214T160000
DTEND;TZID=America/Toronto:20230214T160000
DTSTAMP:20260423T144039
CREATED:20230117T144646Z
LAST-MODIFIED:20230117T144909Z
UID:10000707-1676390400-1676390400@seawayseniors.ca
SUMMARY:Valentines Day Dinner
DESCRIPTION:
URL:https://seawayseniors.ca/event/valentines-day-dinner/
LOCATION:Seaway Seniors Club\, 506 Pitt St\, Cornwall\, ON\, K6J 3R5\, Canada
CATEGORIES:Meals
END:VEVENT
BEGIN:VEVENT
DTSTART;TZID=America/Toronto:20230124T160000
DTEND;TZID=America/Toronto:20230124T160000
DTSTAMP:20260423T144039
CREATED:20230116T205314Z
LAST-MODIFIED:20230116T205314Z
UID:10000706-1674576000-1674576000@seawayseniors.ca
SUMMARY:Italian Pasta Night
DESCRIPTION:
URL:https://seawayseniors.ca/event/italian-pasta-night/
LOCATION:Seaway Seniors Club\, 506 Pitt St\, Cornwall\, ON\, K6J 3R5\, Canada
CATEGORIES:Meals
END:VEVENT
BEGIN:VEVENT
DTSTART;TZID=America/Toronto:20230105T100000
DTEND;TZID=America/Toronto:20230105T110000
DTSTAMP:20260423T144039
CREATED:20221214T165929Z
LAST-MODIFIED:20221214T165929Z
UID:10000705-1672912800-1672916400@seawayseniors.ca
SUMMARY:Intermediate Gmail Workshop
DESCRIPTION:
URL:https://seawayseniors.ca/event/intermediate-gmail-workshop/
LOCATION:Seaway Seniors Club\, 506 Pitt St\, Cornwall\, ON\, K6J 3R5\, Canada
CATEGORIES:Education
END:VEVENT
BEGIN:VEVENT
DTSTART;TZID=America/Toronto:20221227T090000
DTEND;TZID=America/Toronto:20221227T113000
DTSTAMP:20260423T144039
CREATED:20221130T194634Z
LAST-MODIFIED:20221130T194634Z
UID:10000704-1672131600-1672140600@seawayseniors.ca
SUMMARY:December Lunch Menus
DESCRIPTION:
URL:https://seawayseniors.ca/event/december-lunch-menus/2022-12-27/
LOCATION:Seaway Seniors Club\, 506 Pitt St\, Cornwall\, ON\, K6J 3R5\, Canada
CATEGORIES:Meals
END:VEVENT
BEGIN:VEVENT
DTSTART;TZID=America/Toronto:20221220T090000
DTEND;TZID=America/Toronto:20221220T113000
DTSTAMP:20260423T144039
CREATED:20221130T194634Z
LAST-MODIFIED:20221130T194634Z
UID:10000703-1671526800-1671535800@seawayseniors.ca
SUMMARY:December Lunch Menus
DESCRIPTION:
URL:https://seawayseniors.ca/event/december-lunch-menus/2022-12-20/
LOCATION:Seaway Seniors Club\, 506 Pitt St\, Cornwall\, ON\, K6J 3R5\, Canada
CATEGORIES:Meals
END:VEVENT
BEGIN:VEVENT
DTSTART;TZID=America/Toronto:20221213T090000
DTEND;TZID=America/Toronto:20221213T113000
DTSTAMP:20260423T144039
CREATED:20221130T194634Z
LAST-MODIFIED:20221130T194634Z
UID:10000702-1670922000-1670931000@seawayseniors.ca
SUMMARY:December Lunch Menus
DESCRIPTION:
URL:https://seawayseniors.ca/event/december-lunch-menus/2022-12-13/
LOCATION:Seaway Seniors Club\, 506 Pitt St\, Cornwall\, ON\, K6J 3R5\, Canada
CATEGORIES:Meals
END:VEVENT
BEGIN:VEVENT
DTSTART;TZID=America/Toronto:20221206T090000
DTEND;TZID=America/Toronto:20221206T113000
DTSTAMP:20260423T144039
CREATED:20221130T194634Z
LAST-MODIFIED:20221130T194634Z
UID:10000701-1670317200-1670326200@seawayseniors.ca
SUMMARY:December Lunch Menus
DESCRIPTION:
URL:https://seawayseniors.ca/event/december-lunch-menus/2022-12-06/
LOCATION:Seaway Seniors Club\, 506 Pitt St\, Cornwall\, ON\, K6J 3R5\, Canada
CATEGORIES:Meals
END:VEVENT
BEGIN:VEVENT
DTSTART;TZID=America/Toronto:20221129T113000
DTEND;TZID=America/Toronto:20221129T130000
DTSTAMP:20260423T144039
CREATED:20221121T163839Z
LAST-MODIFIED:20221121T163941Z
UID:10000699-1669721400-1669726800@seawayseniors.ca
SUMMARY:Lunch and Learn
DESCRIPTION:
URL:https://seawayseniors.ca/event/lunch-and-learn-2022-11-29/
LOCATION:Seaway Seniors Club\, 506 Pitt St\, Cornwall\, ON\, K6J 3R5\, Canada
CATEGORIES:Education,Meals
END:VEVENT
BEGIN:VEVENT
DTSTART;TZID=America/Toronto:20221129T090000
DTEND;TZID=America/Toronto:20221129T113000
DTSTAMP:20260423T144039
CREATED:20221130T194634Z
LAST-MODIFIED:20221130T194634Z
UID:10000700-1669712400-1669721400@seawayseniors.ca
SUMMARY:December Lunch Menus
DESCRIPTION:
URL:https://seawayseniors.ca/event/december-lunch-menus/2022-11-29/
LOCATION:Seaway Seniors Club\, 506 Pitt St\, Cornwall\, ON\, K6J 3R5\, Canada
CATEGORIES:Meals
END:VEVENT
BEGIN:VEVENT
DTSTART;TZID=America/Toronto:20221129T080000
DTEND;TZID=America/Toronto:20221129T170000
DTSTAMP:20260423T144039
CREATED:20221107T163038Z
LAST-MODIFIED:20221121T163020Z
UID:10000645-1669708800-1669741200@seawayseniors.ca
SUMMARY:November Lunch Menus
DESCRIPTION:
URL:https://seawayseniors.ca/event/november-lunch-menus/2022-11-29/
LOCATION:Seaway Seniors Club\, 506 Pitt St\, Cornwall\, ON\, K6J 3R5\, Canada
CATEGORIES:Meals
END:VEVENT
BEGIN:VEVENT
DTSTART;TZID=America/Toronto:20221123T100000
DTEND;TZID=America/Toronto:20221123T100000
DTSTAMP:20260423T144039
CREATED:20221121T163258Z
LAST-MODIFIED:20221121T163325Z
UID:10000698-1669197600-1669197600@seawayseniors.ca
SUMMARY:General Membership Meeting
DESCRIPTION:
URL:https://seawayseniors.ca/event/general-membership-meeting/
LOCATION:Seaway Seniors Club\, 506 Pitt St\, Cornwall\, ON\, K6J 3R5\, Canada
CATEGORIES:Members Meeting
END:VEVENT
BEGIN:VEVENT
DTSTART;TZID=America/Toronto:20221123T100000
DTEND;TZID=America/Toronto:20221123T100000
DTSTAMP:20260423T144039
CREATED:20221003T174745Z
LAST-MODIFIED:20221003T174745Z
UID:10000631-1669197600-1669197600@seawayseniors.ca
SUMMARY:General Meeting
DESCRIPTION:
URL:https://seawayseniors.ca/event/general-meeting/
LOCATION:Seaway Seniors Club\, 506 Pitt St\, Cornwall\, ON\, K6J 3R5\, Canada
CATEGORIES:Members Meeting
END:VEVENT
BEGIN:VEVENT
DTSTART;TZID=America/Toronto:20221122T080000
DTEND;TZID=America/Toronto:20221122T170000
DTSTAMP:20260423T144039
CREATED:20221107T163038Z
LAST-MODIFIED:20221121T163020Z
UID:10000644-1669104000-1669136400@seawayseniors.ca
SUMMARY:November Lunch Menus
DESCRIPTION:
URL:https://seawayseniors.ca/event/november-lunch-menus/2022-11-22/
LOCATION:Seaway Seniors Club\, 506 Pitt St\, Cornwall\, ON\, K6J 3R5\, Canada
CATEGORIES:Meals
END:VEVENT
BEGIN:VEVENT
DTSTART;TZID=America/Toronto:20221115T080000
DTEND;TZID=America/Toronto:20221115T170000
DTSTAMP:20260423T144039
CREATED:20221107T163038Z
LAST-MODIFIED:20221121T163020Z
UID:10000643-1668499200-1668531600@seawayseniors.ca
SUMMARY:November Lunch Menus
DESCRIPTION:
URL:https://seawayseniors.ca/event/november-lunch-menus/2022-11-15/
LOCATION:Seaway Seniors Club\, 506 Pitt St\, Cornwall\, ON\, K6J 3R5\, Canada
CATEGORIES:Meals
END:VEVENT
BEGIN:VEVENT
DTSTART;TZID=America/Toronto:20221109T113000
DTEND;TZID=America/Toronto:20221109T130000
DTSTAMP:20260423T144039
CREATED:20221003T175047Z
LAST-MODIFIED:20221003T175047Z
UID:10000637-1667993400-1667998800@seawayseniors.ca
SUMMARY:Lunch and Learn
DESCRIPTION:
URL:https://seawayseniors.ca/event/lunch-and-learn/
LOCATION:Seaway Seniors Club\, 506 Pitt St\, Cornwall\, ON\, K6J 3R5\, Canada
CATEGORIES:Education,Meals
END:VEVENT
BEGIN:VEVENT
DTSTART;TZID=America/Toronto:20221108T170000
DTEND;TZID=America/Toronto:20221108T170000
DTSTAMP:20260423T144039
CREATED:20221003T175524Z
LAST-MODIFIED:20221003T175534Z
UID:10000640-1667926800-1667926800@seawayseniors.ca
SUMMARY:Western Night
DESCRIPTION:
URL:https://seawayseniors.ca/event/western-night/
LOCATION:Seaway Seniors Club\, 506 Pitt St\, Cornwall\, ON\, K6J 3R5\, Canada
CATEGORIES:Meals
END:VEVENT
BEGIN:VEVENT
DTSTART;TZID=America/Toronto:20221108T080000
DTEND;TZID=America/Toronto:20221108T170000
DTSTAMP:20260423T144039
CREATED:20221107T163038Z
LAST-MODIFIED:20221121T163020Z
UID:10000642-1667894400-1667926800@seawayseniors.ca
SUMMARY:November Lunch Menus
DESCRIPTION:
URL:https://seawayseniors.ca/event/november-lunch-menus/2022-11-08/
LOCATION:Seaway Seniors Club\, 506 Pitt St\, Cornwall\, ON\, K6J 3R5\, Canada
CATEGORIES:Meals
END:VEVENT
END:VCALENDAR