BEGIN:VCALENDAR
VERSION:2.0
PRODID:-//Seaway Senior Citizens Club - ECPv6.15.20//NONSGML v1.0//EN
CALSCALE:GREGORIAN
METHOD:PUBLISH
X-WR-CALNAME:Seaway Senior Citizens Club
X-ORIGINAL-URL:https://seawayseniors.ca
X-WR-CALDESC:Events for Seaway Senior Citizens Club
REFRESH-INTERVAL;VALUE=DURATION:PT1H
X-Robots-Tag:noindex
X-PUBLISHED-TTL:PT1H
BEGIN:VTIMEZONE
TZID:America/Toronto
BEGIN:DAYLIGHT
TZOFFSETFROM:-0500
TZOFFSETTO:-0400
TZNAME:EDT
DTSTART:20210314T070000
END:DAYLIGHT
BEGIN:STANDARD
TZOFFSETFROM:-0400
TZOFFSETTO:-0500
TZNAME:EST
DTSTART:20211107T060000
END:STANDARD
BEGIN:DAYLIGHT
TZOFFSETFROM:-0500
TZOFFSETTO:-0400
TZNAME:EDT
DTSTART:20220313T070000
END:DAYLIGHT
BEGIN:STANDARD
TZOFFSETFROM:-0400
TZOFFSETTO:-0500
TZNAME:EST
DTSTART:20221106T060000
END:STANDARD
BEGIN:DAYLIGHT
TZOFFSETFROM:-0500
TZOFFSETTO:-0400
TZNAME:EDT
DTSTART:20230312T070000
END:DAYLIGHT
BEGIN:STANDARD
TZOFFSETFROM:-0400
TZOFFSETTO:-0500
TZNAME:EST
DTSTART:20231105T060000
END:STANDARD
END:VTIMEZONE
BEGIN:VEVENT
DTSTART;TZID=America/Toronto:20221025T090000
DTEND;TZID=America/Toronto:20221025T113000
DTSTAMP:20260423T194645
CREATED:20221003T173219Z
LAST-MODIFIED:20221003T173612Z
UID:10000239-1666688400-1666697400@seawayseniors.ca
SUMMARY:October Lunch Menus
DESCRIPTION:
URL:https://seawayseniors.ca/event/october-lunch-menus/2022-10-25/
LOCATION:Seaway Seniors Club\, 506 Pitt St\, Cornwall\, ON\, K6J 3R5\, Canada
CATEGORIES:Meals
END:VEVENT
BEGIN:VEVENT
DTSTART;TZID=America/Toronto:20221024T160000
DTEND;TZID=America/Toronto:20221024T170000
DTSTAMP:20260423T194645
CREATED:20221003T174921Z
LAST-MODIFIED:20221003T174921Z
UID:10000635-1666627200-1666630800@seawayseniors.ca
SUMMARY:Mental Health with Meditation
DESCRIPTION:
URL:https://seawayseniors.ca/event/mental-health-with-meditation/2022-10-24/
LOCATION:Seaway Seniors Club\, 506 Pitt St\, Cornwall\, ON\, K6J 3R5\, Canada
CATEGORIES:Health
END:VEVENT
BEGIN:VEVENT
DTSTART;TZID=America/Toronto:20221024T103000
DTEND;TZID=America/Toronto:20221024T103000
DTSTAMP:20260423T194645
CREATED:20221003T174105Z
LAST-MODIFIED:20221003T174105Z
UID:10000627-1666607400-1666607400@seawayseniors.ca
SUMMARY:Cribbage
DESCRIPTION:
URL:https://seawayseniors.ca/event/cribbage/2022-10-24/
LOCATION:Seaway Seniors Club\, 506 Pitt St\, Cornwall\, ON\, K6J 3R5\, Canada
CATEGORIES:Games
END:VEVENT
BEGIN:VEVENT
DTSTART;TZID=America/Toronto:20221020T110000
DTEND;TZID=America/Toronto:20221020T120000
DTSTAMP:20260423T194645
CREATED:20221003T173850Z
LAST-MODIFIED:20221003T173923Z
UID:10000622-1666263600-1666267200@seawayseniors.ca
SUMMARY:Crafter's Lounge
DESCRIPTION:
URL:https://seawayseniors.ca/event/crafters-lounge/2022-10-20/
LOCATION:Seaway Seniors Club\, 506 Pitt St\, Cornwall\, ON\, K6J 3R5\, Canada
CATEGORIES:Art
END:VEVENT
BEGIN:VEVENT
DTSTART;TZID=America/Toronto:20221020T090000
DTEND;TZID=America/Toronto:20221020T090000
DTSTAMP:20260423T194645
CREATED:20221003T173537Z
LAST-MODIFIED:20221003T174147Z
UID:10000618-1666256400-1666256400@seawayseniors.ca
SUMMARY:Coffee & Talk
DESCRIPTION:
URL:https://seawayseniors.ca/event/coffee-talk/2022-10-20/
LOCATION:Seaway Seniors Club\, 506 Pitt St\, Cornwall\, ON\, K6J 3R5\, Canada
CATEGORIES:Leisure
END:VEVENT
BEGIN:VEVENT
DTSTART;TZID=America/Toronto:20221019T100000
DTEND;TZID=America/Toronto:20221019T100000
DTSTAMP:20260423T194645
CREATED:20221003T174505Z
LAST-MODIFIED:20221003T174505Z
UID:10000630-1666173600-1666173600@seawayseniors.ca
SUMMARY:Crokinole Tournament
DESCRIPTION:
URL:https://seawayseniors.ca/event/crokinole-tournament/
LOCATION:Seaway Seniors Club\, 506 Pitt St\, Cornwall\, ON\, K6J 3R5\, Canada
CATEGORIES:Games
END:VEVENT
BEGIN:VEVENT
DTSTART;TZID=America/Toronto:20221018T090000
DTEND;TZID=America/Toronto:20221018T113000
DTSTAMP:20260423T194645
CREATED:20221003T173219Z
LAST-MODIFIED:20221003T173612Z
UID:10000232-1666083600-1666092600@seawayseniors.ca
SUMMARY:October Lunch Menus
DESCRIPTION:
URL:https://seawayseniors.ca/event/october-lunch-menus/2022-10-18/
LOCATION:Seaway Seniors Club\, 506 Pitt St\, Cornwall\, ON\, K6J 3R5\, Canada
CATEGORIES:Meals
END:VEVENT
BEGIN:VEVENT
DTSTART;TZID=America/Toronto:20221017T160000
DTEND;TZID=America/Toronto:20221017T170000
DTSTAMP:20260423T194645
CREATED:20221003T174921Z
LAST-MODIFIED:20221003T174921Z
UID:10000634-1666022400-1666026000@seawayseniors.ca
SUMMARY:Mental Health with Meditation
DESCRIPTION:
URL:https://seawayseniors.ca/event/mental-health-with-meditation/2022-10-17/
LOCATION:Seaway Seniors Club\, 506 Pitt St\, Cornwall\, ON\, K6J 3R5\, Canada
CATEGORIES:Health
END:VEVENT
BEGIN:VEVENT
DTSTART;TZID=America/Toronto:20221017T103000
DTEND;TZID=America/Toronto:20221017T103000
DTSTAMP:20260423T194645
CREATED:20221003T174105Z
LAST-MODIFIED:20221003T174105Z
UID:10000626-1666002600-1666002600@seawayseniors.ca
SUMMARY:Cribbage
DESCRIPTION:
URL:https://seawayseniors.ca/event/cribbage/2022-10-17/
LOCATION:Seaway Seniors Club\, 506 Pitt St\, Cornwall\, ON\, K6J 3R5\, Canada
CATEGORIES:Games
END:VEVENT
BEGIN:VEVENT
DTSTART;TZID=America/Toronto:20221013T110000
DTEND;TZID=America/Toronto:20221013T120000
DTSTAMP:20260423T194645
CREATED:20221003T173850Z
LAST-MODIFIED:20221003T173923Z
UID:10000621-1665658800-1665662400@seawayseniors.ca
SUMMARY:Crafter's Lounge
DESCRIPTION:
URL:https://seawayseniors.ca/event/crafters-lounge/2022-10-13/
LOCATION:Seaway Seniors Club\, 506 Pitt St\, Cornwall\, ON\, K6J 3R5\, Canada
CATEGORIES:Art
END:VEVENT
BEGIN:VEVENT
DTSTART;TZID=America/Toronto:20221013T090000
DTEND;TZID=America/Toronto:20221013T090000
DTSTAMP:20260423T194645
CREATED:20221003T173537Z
LAST-MODIFIED:20221003T174147Z
UID:10000617-1665651600-1665651600@seawayseniors.ca
SUMMARY:Coffee & Talk
DESCRIPTION:
URL:https://seawayseniors.ca/event/coffee-talk/2022-10-13/
LOCATION:Seaway Seniors Club\, 506 Pitt St\, Cornwall\, ON\, K6J 3R5\, Canada
CATEGORIES:Leisure
END:VEVENT
BEGIN:VEVENT
DTSTART;TZID=America/Toronto:20221011T090000
DTEND;TZID=America/Toronto:20221011T113000
DTSTAMP:20260423T194645
CREATED:20221003T173219Z
LAST-MODIFIED:20221003T173612Z
UID:10000225-1665478800-1665487800@seawayseniors.ca
SUMMARY:October Lunch Menus
DESCRIPTION:
URL:https://seawayseniors.ca/event/october-lunch-menus/2022-10-11/
LOCATION:Seaway Seniors Club\, 506 Pitt St\, Cornwall\, ON\, K6J 3R5\, Canada
CATEGORIES:Meals
END:VEVENT
BEGIN:VEVENT
DTSTART;TZID=America/Toronto:20221010T160000
DTEND;TZID=America/Toronto:20221010T170000
DTSTAMP:20260423T194645
CREATED:20221003T174921Z
LAST-MODIFIED:20221003T174921Z
UID:10000633-1665417600-1665421200@seawayseniors.ca
SUMMARY:Mental Health with Meditation
DESCRIPTION:
URL:https://seawayseniors.ca/event/mental-health-with-meditation/2022-10-10/
LOCATION:Seaway Seniors Club\, 506 Pitt St\, Cornwall\, ON\, K6J 3R5\, Canada
CATEGORIES:Health
END:VEVENT
BEGIN:VEVENT
DTSTART;TZID=America/Toronto:20221010T103000
DTEND;TZID=America/Toronto:20221010T103000
DTSTAMP:20260423T194645
CREATED:20221003T174105Z
LAST-MODIFIED:20221003T174105Z
UID:10000625-1665397800-1665397800@seawayseniors.ca
SUMMARY:Cribbage
DESCRIPTION:
URL:https://seawayseniors.ca/event/cribbage/2022-10-10/
LOCATION:Seaway Seniors Club\, 506 Pitt St\, Cornwall\, ON\, K6J 3R5\, Canada
CATEGORIES:Games
END:VEVENT
BEGIN:VEVENT
DTSTART;TZID=America/Toronto:20221006T110000
DTEND;TZID=America/Toronto:20221006T120000
DTSTAMP:20260423T194645
CREATED:20221003T173850Z
LAST-MODIFIED:20221003T173923Z
UID:10000620-1665054000-1665057600@seawayseniors.ca
SUMMARY:Crafter's Lounge
DESCRIPTION:
URL:https://seawayseniors.ca/event/crafters-lounge/2022-10-06/
LOCATION:Seaway Seniors Club\, 506 Pitt St\, Cornwall\, ON\, K6J 3R5\, Canada
CATEGORIES:Art
END:VEVENT
BEGIN:VEVENT
DTSTART;TZID=America/Toronto:20221006T090000
DTEND;TZID=America/Toronto:20221006T090000
DTSTAMP:20260423T194645
CREATED:20221003T173537Z
LAST-MODIFIED:20221003T174147Z
UID:10000616-1665046800-1665046800@seawayseniors.ca
SUMMARY:Coffee & Talk
DESCRIPTION:
URL:https://seawayseniors.ca/event/coffee-talk/2022-10-06/
LOCATION:Seaway Seniors Club\, 506 Pitt St\, Cornwall\, ON\, K6J 3R5\, Canada
CATEGORIES:Leisure
END:VEVENT
BEGIN:VEVENT
DTSTART;TZID=America/Toronto:20221005T150000
DTEND;TZID=America/Toronto:20221005T160000
DTSTAMP:20260423T194645
CREATED:20221003T173345Z
LAST-MODIFIED:20221003T173345Z
UID:10000611-1664982000-1664985600@seawayseniors.ca
SUMMARY:Blues Harmonica Beginners Class
DESCRIPTION:
URL:https://seawayseniors.ca/event/blues-harmonica-beginners-class/
LOCATION:Seaway Seniors Club\, 506 Pitt St\, Cornwall\, ON\, K6J 3R5\, Canada
CATEGORIES:Music
END:VEVENT
BEGIN:VEVENT
DTSTART;TZID=America/Toronto:20221005T100000
DTEND;TZID=America/Toronto:20221005T100000
DTSTAMP:20260423T194645
CREATED:20221003T174412Z
LAST-MODIFIED:20221003T174412Z
UID:10000629-1664964000-1664964000@seawayseniors.ca
SUMMARY:Crokinole
DESCRIPTION:
URL:https://seawayseniors.ca/event/crokinole/2022-10-05/
LOCATION:Seaway Seniors Club\, 506 Pitt St\, Cornwall\, ON\, K6J 3R5\, Canada
CATEGORIES:Games
END:VEVENT
BEGIN:VEVENT
DTSTART;TZID=America/Toronto:20221004T090000
DTEND;TZID=America/Toronto:20221004T113000
DTSTAMP:20260423T194645
CREATED:20221003T173219Z
LAST-MODIFIED:20221003T173612Z
UID:10000218-1664874000-1664883000@seawayseniors.ca
SUMMARY:October Lunch Menus
DESCRIPTION:
URL:https://seawayseniors.ca/event/october-lunch-menus/2022-10-04/
LOCATION:Seaway Seniors Club\, 506 Pitt St\, Cornwall\, ON\, K6J 3R5\, Canada
CATEGORIES:Meals
END:VEVENT
BEGIN:VEVENT
DTSTART;TZID=America/Toronto:20221003T160000
DTEND;TZID=America/Toronto:20221003T170000
DTSTAMP:20260423T194645
CREATED:20221003T174921Z
LAST-MODIFIED:20221003T174921Z
UID:10000632-1664812800-1664816400@seawayseniors.ca
SUMMARY:Mental Health with Meditation
DESCRIPTION:
URL:https://seawayseniors.ca/event/mental-health-with-meditation/2022-10-03/
LOCATION:Seaway Seniors Club\, 506 Pitt St\, Cornwall\, ON\, K6J 3R5\, Canada
CATEGORIES:Health
END:VEVENT
BEGIN:VEVENT
DTSTART;TZID=America/Toronto:20221003T103000
DTEND;TZID=America/Toronto:20221003T103000
DTSTAMP:20260423T194645
CREATED:20221003T174105Z
LAST-MODIFIED:20221003T174105Z
UID:10000624-1664793000-1664793000@seawayseniors.ca
SUMMARY:Cribbage
DESCRIPTION:
URL:https://seawayseniors.ca/event/cribbage/2022-10-03/
LOCATION:Seaway Seniors Club\, 506 Pitt St\, Cornwall\, ON\, K6J 3R5\, Canada
CATEGORIES:Games
END:VEVENT
BEGIN:VEVENT
DTSTART;TZID=America/Toronto:20220913T080000
DTEND;TZID=America/Toronto:20220913T170000
DTSTAMP:20260423T194645
CREATED:20220913T153358Z
LAST-MODIFIED:20220913T154158Z
UID:10000217-1663056000-1663088400@seawayseniors.ca
SUMMARY:September Lunch Menus
DESCRIPTION:
URL:https://seawayseniors.ca/event/september-lunch-menus/
LOCATION:Seaway Seniors Club\, 506 Pitt St\, Cornwall\, ON\, K6J 3R5\, Canada
CATEGORIES:Meals
END:VEVENT
BEGIN:VEVENT
DTSTART;TZID=America/Toronto:20220608T103000
DTEND;TZID=America/Toronto:20220608T120000
DTSTAMP:20260423T194645
CREATED:20220607T184133Z
LAST-MODIFIED:20220607T184157Z
UID:10000216-1654684200-1654689600@seawayseniors.ca
SUMMARY:Not a Serious Bone in my Body
DESCRIPTION:
URL:https://seawayseniors.ca/event/not-a-serious-bone-in-my-body/
LOCATION:Seaway Seniors Club\, 506 Pitt St\, Cornwall\, ON\, K6J 3R5\, Canada
CATEGORIES:Leisure
END:VEVENT
BEGIN:VEVENT
DTSTART;TZID=America/Toronto:20220517T140000
DTEND;TZID=America/Toronto:20220517T150000
DTSTAMP:20260423T194645
CREATED:20220516T142326Z
LAST-MODIFIED:20220516T142326Z
UID:10000215-1652796000-1652799600@seawayseniors.ca
SUMMARY:Elections Ontario Accessible Voting Options
DESCRIPTION:In person event\, Maple Room (downstairs)
URL:https://seawayseniors.ca/event/elections-ontario-accessible-voting-options/
LOCATION:Seaway Seniors Club\, 506 Pitt St\, Cornwall\, ON\, K6J 3R5\, Canada
CATEGORIES:Education
END:VEVENT
BEGIN:VEVENT
DTSTART;TZID=America/Toronto:20220517T130000
DTEND;TZID=America/Toronto:20220517T150000
DTSTAMP:20260423T194645
CREATED:20220509T200110Z
LAST-MODIFIED:20220509T200110Z
UID:10000213-1652792400-1652799600@seawayseniors.ca
SUMMARY:Royal Tea Party
DESCRIPTION:
URL:https://seawayseniors.ca/event/royal-tea-party/
LOCATION:Seaway Seniors Club\, 506 Pitt St\, Cornwall\, ON\, K6J 3R5\, Canada
CATEGORIES:Leisure,Meals
END:VEVENT
BEGIN:VEVENT
DTSTART;TZID=America/Toronto:20220514T130000
DTEND;TZID=America/Toronto:20220514T150000
DTSTAMP:20260423T194645
CREATED:20220509T201004Z
LAST-MODIFIED:20220509T201206Z
UID:10000214-1652533200-1652540400@seawayseniors.ca
SUMMARY:Horticulture Information Session
DESCRIPTION:In person event\, Oak Room (gym)
URL:https://seawayseniors.ca/event/horticulture-information-session/
LOCATION:Seaway Seniors Club\, 506 Pitt St\, Cornwall\, ON\, K6J 3R5\, Canada
CATEGORIES:Education
END:VEVENT
BEGIN:VEVENT
DTSTART;TZID=America/Toronto:20220504T103000
DTEND;TZID=America/Toronto:20220504T120000
DTSTAMP:20260423T194645
CREATED:20220502T140101Z
LAST-MODIFIED:20220502T140101Z
UID:10000212-1651660200-1651665600@seawayseniors.ca
SUMMARY:Senior Storytelling with Tom Cooper
DESCRIPTION:In person event\, Birch Room (beside the office) \nPlease pre-register for the Senior Storytelling with Tom Cooper on May 4th at 10:30 a.m. by calling the Centre at 613-932-4969.
URL:https://seawayseniors.ca/event/senior-storytelling-with-tom-cooper/
LOCATION:Seaway Seniors Club\, 506 Pitt St\, Cornwall\, ON\, K6J 3R5\, Canada
CATEGORIES:Leisure
END:VEVENT
BEGIN:VEVENT
DTSTART;TZID=America/Toronto:20220503T140000
DTEND;TZID=America/Toronto:20220503T160000
DTSTAMP:20260423T194645
CREATED:20220405T195759Z
LAST-MODIFIED:20220502T152441Z
UID:10000209-1651586400-1651593600@seawayseniors.ca
SUMMARY:CANCELLED - Mother's Day Fancy Hat Tea Party
DESCRIPTION:This event has been cancelled
URL:https://seawayseniors.ca/event/mothers-day-fancy-hat-tea-party/
LOCATION:Seaway Seniors Club\, 506 Pitt St\, Cornwall\, ON\, K6J 3R5\, Canada
CATEGORIES:Leisure
END:VEVENT
BEGIN:VEVENT
DTSTART;TZID=America/Toronto:20220419T130000
DTEND;TZID=America/Toronto:20220419T150000
DTSTAMP:20260423T194645
CREATED:20220418T151522Z
LAST-MODIFIED:20220418T151522Z
UID:10000211-1650373200-1650380400@seawayseniors.ca
SUMMARY:Reception Volunteer Training
DESCRIPTION:In person event\, Oak Room (gym)
URL:https://seawayseniors.ca/event/reception-volunteer-training/
LOCATION:Seaway Seniors Club\, 506 Pitt St\, Cornwall\, ON\, K6J 3R5\, Canada
CATEGORIES:Education,Volunteer
END:VEVENT
BEGIN:VEVENT
DTSTART;TZID=America/Toronto:20220414T170000
DTEND;TZID=America/Toronto:20220414T200000
DTSTAMP:20260423T194645
CREATED:20220405T200128Z
LAST-MODIFIED:20220411T151345Z
UID:10000210-1649955600-1649966400@seawayseniors.ca
SUMMARY:Easter Dinner For Club Members / Easter Bonnet Competition and Easter Egg Hunt
DESCRIPTION:Curbside pickup for the Easter dinner is also available on Thursday\, April 14\, between 3:00 and 4:00 p.m. Please call in your order no later than Tuesday April 12th\, between 9:30 and 11:00 a.m
URL:https://seawayseniors.ca/event/easter-dinner-for-club-members-easter-bonnet-competition-and-easter-egg-hunt/
LOCATION:Seaway Seniors Club\, 506 Pitt St\, Cornwall\, ON\, K6J 3R5\, Canada
CATEGORIES:Leisure,Meals
END:VEVENT
END:VCALENDAR