BEGIN:VCALENDAR
VERSION:2.0
PRODID:-//Seaway Senior Citizens Club - ECPv6.15.20//NONSGML v1.0//EN
CALSCALE:GREGORIAN
METHOD:PUBLISH
X-ORIGINAL-URL:https://seawayseniors.ca
X-WR-CALDESC:Events for Seaway Senior Citizens Club
REFRESH-INTERVAL;VALUE=DURATION:PT1H
X-Robots-Tag:noindex
X-PUBLISHED-TTL:PT1H
BEGIN:VTIMEZONE
TZID:America/Toronto
BEGIN:DAYLIGHT
TZOFFSETFROM:-0500
TZOFFSETTO:-0400
TZNAME:EDT
DTSTART:20240310T070000
END:DAYLIGHT
BEGIN:STANDARD
TZOFFSETFROM:-0400
TZOFFSETTO:-0500
TZNAME:EST
DTSTART:20241103T060000
END:STANDARD
BEGIN:DAYLIGHT
TZOFFSETFROM:-0500
TZOFFSETTO:-0400
TZNAME:EDT
DTSTART:20250309T070000
END:DAYLIGHT
BEGIN:STANDARD
TZOFFSETFROM:-0400
TZOFFSETTO:-0500
TZNAME:EST
DTSTART:20251102T060000
END:STANDARD
BEGIN:DAYLIGHT
TZOFFSETFROM:-0500
TZOFFSETTO:-0400
TZNAME:EDT
DTSTART:20260308T070000
END:DAYLIGHT
BEGIN:STANDARD
TZOFFSETFROM:-0400
TZOFFSETTO:-0500
TZNAME:EST
DTSTART:20261101T060000
END:STANDARD
BEGIN:DAYLIGHT
TZOFFSETFROM:-0500
TZOFFSETTO:-0400
TZNAME:EDT
DTSTART:20270314T070000
END:DAYLIGHT
BEGIN:STANDARD
TZOFFSETFROM:-0400
TZOFFSETTO:-0500
TZNAME:EST
DTSTART:20271107T060000
END:STANDARD
END:VTIMEZONE
BEGIN:VEVENT
DTSTART;TZID=America/Toronto:20260113T130000
DTEND;TZID=America/Toronto:20260113T150000
DTSTAMP:20260422T225613
CREATED:20251202T140613Z
LAST-MODIFIED:20251202T140635Z
UID:10000847-1768309200-1768316400@seawayseniors.ca
SUMMARY:Winter Wonderland Painting Class
DESCRIPTION:
URL:https://seawayseniors.ca/event/winter-wonderland-painting-class/
LOCATION:Seaway Seniors Club\, 506 Pitt St\, Cornwall\, ON\, K6J 3R5\, Canada
CATEGORIES:Art
END:VEVENT
BEGIN:VEVENT
DTSTART;TZID=America/Toronto:20251129T103000
DTEND;TZID=America/Toronto:20251129T170000
DTSTAMP:20260422T225613
CREATED:20251002T165534Z
LAST-MODIFIED:20251002T165545Z
UID:10000841-1764412200-1764435600@seawayseniors.ca
SUMMARY:Bid Ecuhre Tournament
DESCRIPTION:
URL:https://seawayseniors.ca/event/bid-ecuhre/
LOCATION:Seaway Seniors Club\, 506 Pitt St\, Cornwall\, ON\, K6J 3R5\, Canada
CATEGORIES:Games
END:VEVENT
BEGIN:VEVENT
DTSTART;TZID=America/Toronto:20251111T130000
DTEND;TZID=America/Toronto:20251111T130000
DTSTAMP:20260422T225613
CREATED:20251021T131754Z
LAST-MODIFIED:20251021T131754Z
UID:10000846-1762866000-1762866000@seawayseniors.ca
SUMMARY:Snowflake Quilling Workshop
DESCRIPTION:
URL:https://seawayseniors.ca/event/snowflake-quilling-workshop/
LOCATION:Seaway Seniors Club\, 506 Pitt St\, Cornwall\, ON\, K6J 3R5\, Canada
CATEGORIES:Art
END:VEVENT
BEGIN:VEVENT
DTSTART;TZID=America/Toronto:20251108T100000
DTEND;TZID=America/Toronto:20251108T140000
DTSTAMP:20260422T225613
CREATED:20251002T165234Z
LAST-MODIFIED:20251002T165309Z
UID:10000840-1762596000-1762610400@seawayseniors.ca
SUMMARY:Silver Snowflake Art & Craft Market & Cafe 2025
DESCRIPTION:
URL:https://seawayseniors.ca/event/silver-snowflake-art-craft-market-cafe-2025/
LOCATION:Seaway Seniors Club\, 506 Pitt St\, Cornwall\, ON\, K6J 3R5\, Canada
CATEGORIES:Fundraising
END:VEVENT
BEGIN:VEVENT
DTSTART;TZID=America/Toronto:20251104T130000
DTEND;TZID=America/Toronto:20251104T130000
DTSTAMP:20260422T225613
CREATED:20251021T130617Z
LAST-MODIFIED:20251021T130617Z
UID:10000844-1762261200-1762261200@seawayseniors.ca
SUMMARY:General Meeting
DESCRIPTION:
URL:https://seawayseniors.ca/event/general-meeting-4/
LOCATION:Seaway Seniors Club\, 506 Pitt St\, Cornwall\, ON\, K6J 3R5\, Canada
CATEGORIES:Members Meeting
END:VEVENT
BEGIN:VEVENT
DTSTART;TZID=America/Toronto:20251028T140000
DTEND;TZID=America/Toronto:20251028T140000
DTSTAMP:20260422T225613
CREATED:20251002T170057Z
LAST-MODIFIED:20251002T170057Z
UID:10000843-1761660000-1761660000@seawayseniors.ca
SUMMARY:Tai Chi Demonstration
DESCRIPTION:
URL:https://seawayseniors.ca/event/tai-chi-demonstration/
LOCATION:Seaway Seniors Club\, 506 Pitt St\, Cornwall\, ON\, K6J 3R5\, Canada
CATEGORIES:Fitness
END:VEVENT
BEGIN:VEVENT
DTSTART;TZID=America/Toronto:20251016T100000
DTEND;TZID=America/Toronto:20251016T120000
DTSTAMP:20260422T225613
CREATED:20251002T165825Z
LAST-MODIFIED:20251002T165852Z
UID:10000842-1760608800-1760616000@seawayseniors.ca
SUMMARY:Government of Canada Programs: One on One Clinic
DESCRIPTION:
URL:https://seawayseniors.ca/event/government-of-canada-programs-one-on-one-clinic-2/
LOCATION:Seaway Seniors Club\, 506 Pitt St\, Cornwall\, ON\, K6J 3R5\, Canada
CATEGORIES:Education
END:VEVENT
BEGIN:VEVENT
DTSTART;TZID=America/Toronto:20251010T163000
DTEND;TZID=America/Toronto:20251010T193000
DTSTAMP:20260422T225613
CREATED:20250902T182959Z
LAST-MODIFIED:20250902T182959Z
UID:10000839-1760113800-1760124600@seawayseniors.ca
SUMMARY:Spaghetti Dinner
DESCRIPTION:
URL:https://seawayseniors.ca/event/spaghetti-dinner/
LOCATION:Seaway Seniors Club\, 506 Pitt St\, Cornwall\, ON\, K6J 3R5\, Canada
CATEGORIES:Fundraising,Meals
END:VEVENT
BEGIN:VEVENT
DTSTART;TZID=America/Toronto:20251007T130000
DTEND;TZID=America/Toronto:20251007T150000
DTSTAMP:20260422T225613
CREATED:20250902T181727Z
LAST-MODIFIED:20250902T181727Z
UID:10000833-1759842000-1759849200@seawayseniors.ca
SUMMARY:Fall Fling Painting Class
DESCRIPTION:
URL:https://seawayseniors.ca/event/fall-fling-painting-class/
LOCATION:Seaway Seniors Club\, 506 Pitt St\, Cornwall\, ON\, K6J 3R5\, Canada
CATEGORIES:Art
END:VEVENT
BEGIN:VEVENT
DTSTART;TZID=America/Toronto:20250930T130000
DTEND;TZID=America/Toronto:20250930T150000
DTSTAMP:20260422T225613
CREATED:20250902T182508Z
LAST-MODIFIED:20250902T182508Z
UID:10000836-1759237200-1759244400@seawayseniors.ca
SUMMARY:Watercolour Painting Lighthouses of the East Coast
DESCRIPTION:
URL:https://seawayseniors.ca/event/watercolour-painting-lighthouses-of-the-east-coast/
LOCATION:Seaway Seniors Club\, 506 Pitt St\, Cornwall\, ON\, K6J 3R5\, Canada
CATEGORIES:Art
END:VEVENT
BEGIN:VEVENT
DTSTART;TZID=America/Toronto:20250923T130000
DTEND;TZID=America/Toronto:20250923T140000
DTSTAMP:20260422T225613
CREATED:20250902T182128Z
LAST-MODIFIED:20250902T182150Z
UID:10000835-1758632400-1758636000@seawayseniors.ca
SUMMARY:The Tastes of Chateau Cornwall
DESCRIPTION:
URL:https://seawayseniors.ca/event/the-tastes-of-chateau-cornwall/
LOCATION:Seaway Seniors Club\, 506 Pitt St\, Cornwall\, ON\, K6J 3R5\, Canada
CATEGORIES:Meals
END:VEVENT
BEGIN:VEVENT
DTSTART;TZID=America/Toronto:20250918T100000
DTEND;TZID=America/Toronto:20250918T100000
DTSTAMP:20260422T225613
CREATED:20250902T181920Z
LAST-MODIFIED:20250902T181920Z
UID:10000834-1758189600-1758189600@seawayseniors.ca
SUMMARY:Canadian Government Services for Seniors
DESCRIPTION:
URL:https://seawayseniors.ca/event/canadian-government-services-for-seniors/
LOCATION:Seaway Seniors Club\, 506 Pitt St\, Cornwall\, ON\, K6J 3R5\, Canada
CATEGORIES:Education
END:VEVENT
BEGIN:VEVENT
DTSTART;TZID=America/Toronto:20250913T100000
DTEND;TZID=America/Toronto:20250913T150000
DTSTAMP:20260422T225613
CREATED:20250902T182819Z
LAST-MODIFIED:20250902T182819Z
UID:10000838-1757757600-1757775600@seawayseniors.ca
SUMMARY:Harvest BBQ & Indoor Market
DESCRIPTION:
URL:https://seawayseniors.ca/event/harvest-bbq-indoor-market/
LOCATION:Seaway Seniors Club\, 506 Pitt St\, Cornwall\, ON\, K6J 3R5\, Canada
CATEGORIES:Leisure
END:VEVENT
BEGIN:VEVENT
DTSTART;TZID=America/Toronto:20250910T083000
DTEND;TZID=America/Toronto:20250910T153000
DTSTAMP:20260422T225613
CREATED:20250902T182650Z
LAST-MODIFIED:20250902T182650Z
UID:10000837-1757493000-1757518200@seawayseniors.ca
SUMMARY:Explore Club Thompson Island Cultural Camp
DESCRIPTION:
URL:https://seawayseniors.ca/event/explore-club-thompson-island-cultural-camp/
LOCATION:Seaway Seniors Club\, 506 Pitt St\, Cornwall\, ON\, K6J 3R5\, Canada
CATEGORIES:Leisure
END:VEVENT
BEGIN:VEVENT
DTSTART;TZID=America/Toronto:20250805T130000
DTEND;TZID=America/Toronto:20250805T150000
DTSTAMP:20260422T225613
CREATED:20250707T134030Z
LAST-MODIFIED:20250707T134030Z
UID:10000832-1754398800-1754406000@seawayseniors.ca
SUMMARY:Watercolour Painting with Bruni Nielsen
DESCRIPTION:
URL:https://seawayseniors.ca/event/watercolour-painting-with-bruni-nielsen/
LOCATION:Seaway Seniors Club\, 506 Pitt St\, Cornwall\, ON\, K6J 3R5\, Canada
CATEGORIES:Art
END:VEVENT
BEGIN:VEVENT
DTSTART;TZID=America/Toronto:20250726T080000
DTEND;TZID=America/Toronto:20250726T140000
DTSTAMP:20260422T225613
CREATED:20250605T144719Z
LAST-MODIFIED:20250605T144719Z
UID:10000828-1753516800-1753538400@seawayseniors.ca
SUMMARY:Christmas in July Garage Sale
DESCRIPTION:
URL:https://seawayseniors.ca/event/christmas-in-july-garage-sale/
LOCATION:Seaway Seniors Club\, 506 Pitt St\, Cornwall\, ON\, K6J 3R5\, Canada
END:VEVENT
BEGIN:VEVENT
DTSTART;TZID=America/Toronto:20250715T130000
DTEND;TZID=America/Toronto:20250715T130000
DTSTAMP:20260422T225613
CREATED:20250707T133544Z
LAST-MODIFIED:20250707T133627Z
UID:10000830-1752584400-1752584400@seawayseniors.ca
SUMMARY:Flower Arranging with Nigel Carlisle
DESCRIPTION:
URL:https://seawayseniors.ca/event/flower-arranging-with-nigel-carlisle/
LOCATION:Seaway Seniors Club\, 506 Pitt St\, Cornwall\, ON\, K6J 3R5\, Canada
CATEGORIES:Art
END:VEVENT
BEGIN:VEVENT
DTSTART;TZID=America/Toronto:20250709T100000
DTEND;TZID=America/Toronto:20250709T120000
DTSTAMP:20260422T225613
CREATED:20250707T133810Z
LAST-MODIFIED:20250707T133848Z
UID:10000831-1752055200-1752062400@seawayseniors.ca
SUMMARY:Government of Canada Programs - One on One Clinic
DESCRIPTION:
URL:https://seawayseniors.ca/event/government-of-canada-programs-one-on-one-clinic/
LOCATION:Seaway Seniors Club\, 506 Pitt St\, Cornwall\, ON\, K6J 3R5\, Canada
CATEGORIES:Education
END:VEVENT
BEGIN:VEVENT
DTSTART;TZID=America/Toronto:20250625T100000
DTEND;TZID=America/Toronto:20250625T100000
DTSTAMP:20260422T225613
CREATED:20250605T144848Z
LAST-MODIFIED:20250605T144848Z
UID:10000829-1750845600-1750845600@seawayseniors.ca
SUMMARY:General Meeting
DESCRIPTION:
URL:https://seawayseniors.ca/event/general-meeting-3/
LOCATION:Seaway Seniors Club\, 506 Pitt St\, Cornwall\, ON\, K6J 3R5\, Canada
CATEGORIES:Members Meeting
END:VEVENT
BEGIN:VEVENT
DTSTART;TZID=America/Toronto:20250617T170000
DTEND;TZID=America/Toronto:20250617T170000
DTSTAMP:20260422T225613
CREATED:20250605T144445Z
LAST-MODIFIED:20250605T144445Z
UID:10000826-1750179600-1750179600@seawayseniors.ca
SUMMARY:June Dinner Party
DESCRIPTION:
URL:https://seawayseniors.ca/event/june-dinner-party/
LOCATION:Seaway Seniors Club\, 506 Pitt St\, Cornwall\, ON\, K6J 3R5\, Canada
CATEGORIES:Meals
END:VEVENT
BEGIN:VEVENT
DTSTART;TZID=America/Toronto:20250617T130000
DTEND;TZID=America/Toronto:20250617T130000
DTSTAMP:20260422T225613
CREATED:20250605T144602Z
LAST-MODIFIED:20250605T144602Z
UID:10000827-1750165200-1750165200@seawayseniors.ca
SUMMARY:Fall Prevention Inside & Outdoors
DESCRIPTION:
URL:https://seawayseniors.ca/event/fall-prevention-inside-outdoors/
LOCATION:Seaway Seniors Club\, 506 Pitt St\, Cornwall\, ON\, K6J 3R5\, Canada
CATEGORIES:Education
END:VEVENT
BEGIN:VEVENT
DTSTART;TZID=America/Toronto:20250610T130000
DTEND;TZID=America/Toronto:20250610T150000
DTSTAMP:20260422T225613
CREATED:20250424T144204Z
LAST-MODIFIED:20250424T144204Z
UID:10000825-1749560400-1749567600@seawayseniors.ca
SUMMARY:Watercolour Painting
DESCRIPTION:
URL:https://seawayseniors.ca/event/watercolour-painting/
LOCATION:Seaway Seniors Club\, 506 Pitt St\, Cornwall\, ON\, K6J 3R5\, Canada
CATEGORIES:Art
END:VEVENT
BEGIN:VEVENT
DTSTART;TZID=America/Toronto:20250527T130000
DTEND;TZID=America/Toronto:20250527T150000
DTSTAMP:20260422T225613
CREATED:20250424T144003Z
LAST-MODIFIED:20250424T144003Z
UID:10000824-1748350800-1748358000@seawayseniors.ca
SUMMARY:Beginners "On Edge" Quilling Workshop
DESCRIPTION:
URL:https://seawayseniors.ca/event/beginners-on-edge-quilling-workshop/
LOCATION:Seaway Seniors Club\, 506 Pitt St\, Cornwall\, ON\, K6J 3R5\, Canada
CATEGORIES:Art,Crafts
END:VEVENT
BEGIN:VEVENT
DTSTART;TZID=America/Toronto:20250506T130000
DTEND;TZID=America/Toronto:20250506T130000
DTSTAMP:20260422T225613
CREATED:20250424T135023Z
LAST-MODIFIED:20250424T135023Z
UID:10000822-1746536400-1746536400@seawayseniors.ca
SUMMARY:Plan Your Garden
DESCRIPTION:
URL:https://seawayseniors.ca/event/plan-your-garden/
LOCATION:Seaway Seniors Club\, 506 Pitt St\, Cornwall\, ON\, K6J 3R5\, Canada
CATEGORIES:Education
END:VEVENT
BEGIN:VEVENT
DTSTART;TZID=America/Toronto:20250429T130000
DTEND;TZID=America/Toronto:20250429T150000
DTSTAMP:20260422T225613
CREATED:20250401T201705Z
LAST-MODIFIED:20250401T201705Z
UID:10000820-1745931600-1745938800@seawayseniors.ca
SUMMARY:Spring Fling Painting Class
DESCRIPTION:
URL:https://seawayseniors.ca/event/spring-fling-painting-class/
LOCATION:Seaway Seniors Club\, 506 Pitt St\, Cornwall\, ON\, K6J 3R5\, Canada
CATEGORIES:Art
END:VEVENT
BEGIN:VEVENT
DTSTART;TZID=America/Toronto:20250425T083000
DTEND;TZID=America/Toronto:20250425T120000
DTSTAMP:20260422T225613
CREATED:20241107T134607Z
LAST-MODIFIED:20241107T134607Z
UID:10000801-1745569800-1745582400@seawayseniors.ca
SUMMARY:506 Wellness Clinic
DESCRIPTION:
URL:https://seawayseniors.ca/event/506-wellness-clinic-25-04-25/
LOCATION:Seaway Seniors Club\, 506 Pitt St\, Cornwall\, ON\, K6J 3R5\, Canada
CATEGORIES:Health
END:VEVENT
BEGIN:VEVENT
DTSTART;TZID=America/Toronto:20250422T130000
DTEND;TZID=America/Toronto:20250422T150000
DTSTAMP:20260422T225613
CREATED:20250401T201522Z
LAST-MODIFIED:20250401T201522Z
UID:10000819-1745326800-1745334000@seawayseniors.ca
SUMMARY:Habitat for Humanity ReMove Project and Critical Repairs
DESCRIPTION:
URL:https://seawayseniors.ca/event/habitat-for-humanity-remove-project-and-critical-repairs/
LOCATION:Seaway Seniors Club\, 506 Pitt St\, Cornwall\, ON\, K6J 3R5\, Canada
CATEGORIES:Education
END:VEVENT
BEGIN:VEVENT
DTSTART;TZID=America/Toronto:20250412T100000
DTEND;TZID=America/Toronto:20250412T150000
DTSTAMP:20260422T225613
CREATED:20250304T164415Z
LAST-MODIFIED:20250304T164415Z
UID:10000815-1744452000-1744470000@seawayseniors.ca
SUMMARY:Bunny Bake Sale and Market
DESCRIPTION:
URL:https://seawayseniors.ca/event/bunny-bake-sale-and-market/
LOCATION:Seaway Seniors Club\, 506 Pitt St\, Cornwall\, ON\, K6J 3R5\, Canada
CATEGORIES:Leisure
END:VEVENT
BEGIN:VEVENT
DTSTART;TZID=America/Toronto:20250408T130000
DTEND;TZID=America/Toronto:20250408T150000
DTSTAMP:20260422T225613
CREATED:20250401T201145Z
LAST-MODIFIED:20250401T201256Z
UID:10000818-1744117200-1744124400@seawayseniors.ca
SUMMARY:Birds in your Backyard
DESCRIPTION:
URL:https://seawayseniors.ca/event/birds-in-your-backyard-2/
LOCATION:Seaway Seniors Club\, 506 Pitt St\, Cornwall\, ON\, K6J 3R5\, Canada
CATEGORIES:Education,Environmental
END:VEVENT
BEGIN:VEVENT
DTSTART;TZID=America/Toronto:20250405T160000
DTEND;TZID=America/Toronto:20250405T190000
DTSTAMP:20260422T225613
CREATED:20250304T164113Z
LAST-MODIFIED:20250304T164113Z
UID:10000813-1743868800-1743879600@seawayseniors.ca
SUMMARY:Spaghetti Dinner FUNraiser!
DESCRIPTION:
URL:https://seawayseniors.ca/event/spaghetti-dinner-funraiser-2/
LOCATION:Seaway Seniors Club\, 506 Pitt St\, Cornwall\, ON\, K6J 3R5\, Canada
CATEGORIES:Fundraising,Meals
END:VEVENT
END:VCALENDAR