BEGIN:VCALENDAR
VERSION:2.0
PRODID:-//Seaway Senior Citizens Club - ECPv6.15.20//NONSGML v1.0//EN
CALSCALE:GREGORIAN
METHOD:PUBLISH
X-WR-CALNAME:Seaway Senior Citizens Club
X-ORIGINAL-URL:https://seawayseniors.ca
X-WR-CALDESC:Events for Seaway Senior Citizens Club
REFRESH-INTERVAL;VALUE=DURATION:PT1H
X-Robots-Tag:noindex
X-PUBLISHED-TTL:PT1H
BEGIN:VTIMEZONE
TZID:America/Toronto
BEGIN:DAYLIGHT
TZOFFSETFROM:-0500
TZOFFSETTO:-0400
TZNAME:EDT
DTSTART:20230312T070000
END:DAYLIGHT
BEGIN:STANDARD
TZOFFSETFROM:-0400
TZOFFSETTO:-0500
TZNAME:EST
DTSTART:20231105T060000
END:STANDARD
BEGIN:DAYLIGHT
TZOFFSETFROM:-0500
TZOFFSETTO:-0400
TZNAME:EDT
DTSTART:20240310T070000
END:DAYLIGHT
BEGIN:STANDARD
TZOFFSETFROM:-0400
TZOFFSETTO:-0500
TZNAME:EST
DTSTART:20241103T060000
END:STANDARD
BEGIN:DAYLIGHT
TZOFFSETFROM:-0500
TZOFFSETTO:-0400
TZNAME:EDT
DTSTART:20250309T070000
END:DAYLIGHT
BEGIN:STANDARD
TZOFFSETFROM:-0400
TZOFFSETTO:-0500
TZNAME:EST
DTSTART:20251102T060000
END:STANDARD
BEGIN:DAYLIGHT
TZOFFSETFROM:-0500
TZOFFSETTO:-0400
TZNAME:EDT
DTSTART:20260308T070000
END:DAYLIGHT
BEGIN:STANDARD
TZOFFSETFROM:-0400
TZOFFSETTO:-0500
TZNAME:EST
DTSTART:20261101T060000
END:STANDARD
END:VTIMEZONE
BEGIN:VEVENT
DTSTART;TZID=America/Toronto:20250429T130000
DTEND;TZID=America/Toronto:20250429T150000
DTSTAMP:20260423T024137
CREATED:20250401T201705Z
LAST-MODIFIED:20250401T201705Z
UID:10000820-1745931600-1745938800@seawayseniors.ca
SUMMARY:Spring Fling Painting Class
DESCRIPTION:
URL:https://seawayseniors.ca/event/spring-fling-painting-class/
LOCATION:Seaway Seniors Club\, 506 Pitt St\, Cornwall\, ON\, K6J 3R5\, Canada
CATEGORIES:Art
END:VEVENT
BEGIN:VEVENT
DTSTART;TZID=America/Toronto:20250425T083000
DTEND;TZID=America/Toronto:20250425T120000
DTSTAMP:20260423T024137
CREATED:20241107T134607Z
LAST-MODIFIED:20241107T134607Z
UID:10000801-1745569800-1745582400@seawayseniors.ca
SUMMARY:506 Wellness Clinic
DESCRIPTION:
URL:https://seawayseniors.ca/event/506-wellness-clinic-25-04-25/
LOCATION:Seaway Seniors Club\, 506 Pitt St\, Cornwall\, ON\, K6J 3R5\, Canada
CATEGORIES:Health
END:VEVENT
BEGIN:VEVENT
DTSTART;TZID=America/Toronto:20250422T130000
DTEND;TZID=America/Toronto:20250422T150000
DTSTAMP:20260423T024137
CREATED:20250401T201522Z
LAST-MODIFIED:20250401T201522Z
UID:10000819-1745326800-1745334000@seawayseniors.ca
SUMMARY:Habitat for Humanity ReMove Project and Critical Repairs
DESCRIPTION:
URL:https://seawayseniors.ca/event/habitat-for-humanity-remove-project-and-critical-repairs/
LOCATION:Seaway Seniors Club\, 506 Pitt St\, Cornwall\, ON\, K6J 3R5\, Canada
CATEGORIES:Education
END:VEVENT
BEGIN:VEVENT
DTSTART;TZID=America/Toronto:20250412T100000
DTEND;TZID=America/Toronto:20250412T150000
DTSTAMP:20260423T024137
CREATED:20250304T164415Z
LAST-MODIFIED:20250304T164415Z
UID:10000815-1744452000-1744470000@seawayseniors.ca
SUMMARY:Bunny Bake Sale and Market
DESCRIPTION:
URL:https://seawayseniors.ca/event/bunny-bake-sale-and-market/
LOCATION:Seaway Seniors Club\, 506 Pitt St\, Cornwall\, ON\, K6J 3R5\, Canada
CATEGORIES:Leisure
END:VEVENT
BEGIN:VEVENT
DTSTART;TZID=America/Toronto:20250408T130000
DTEND;TZID=America/Toronto:20250408T150000
DTSTAMP:20260423T024137
CREATED:20250401T201145Z
LAST-MODIFIED:20250401T201256Z
UID:10000818-1744117200-1744124400@seawayseniors.ca
SUMMARY:Birds in your Backyard
DESCRIPTION:
URL:https://seawayseniors.ca/event/birds-in-your-backyard-2/
LOCATION:Seaway Seniors Club\, 506 Pitt St\, Cornwall\, ON\, K6J 3R5\, Canada
CATEGORIES:Education,Environmental
END:VEVENT
BEGIN:VEVENT
DTSTART;TZID=America/Toronto:20250405T160000
DTEND;TZID=America/Toronto:20250405T190000
DTSTAMP:20260423T024137
CREATED:20250304T164113Z
LAST-MODIFIED:20250304T164113Z
UID:10000813-1743868800-1743879600@seawayseniors.ca
SUMMARY:Spaghetti Dinner FUNraiser!
DESCRIPTION:
URL:https://seawayseniors.ca/event/spaghetti-dinner-funraiser-2/
LOCATION:Seaway Seniors Club\, 506 Pitt St\, Cornwall\, ON\, K6J 3R5\, Canada
CATEGORIES:Fundraising,Meals
END:VEVENT
BEGIN:VEVENT
DTSTART;TZID=America/Toronto:20250401T130000
DTEND;TZID=America/Toronto:20250401T130000
DTSTAMP:20260423T024137
CREATED:20250401T201016Z
LAST-MODIFIED:20250401T201016Z
UID:10000817-1743512400-1743512400@seawayseniors.ca
SUMMARY:Cedar Barn Homestead
DESCRIPTION:
URL:https://seawayseniors.ca/event/cedar-barn-homestead/
LOCATION:Seaway Seniors Club\, 506 Pitt St\, Cornwall\, ON\, K6J 3R5\, Canada
CATEGORIES:Education
END:VEVENT
BEGIN:VEVENT
DTSTART;TZID=America/Toronto:20250325T130000
DTEND;TZID=America/Toronto:20250325T150000
DTSTAMP:20260423T024137
CREATED:20250304T164243Z
LAST-MODIFIED:20250304T164243Z
UID:10000814-1742907600-1742914800@seawayseniors.ca
SUMMARY:Spring Watercolour Painting
DESCRIPTION:
URL:https://seawayseniors.ca/event/spring-watercolour-painting/
LOCATION:Seaway Seniors Club\, 506 Pitt St\, Cornwall\, ON\, K6J 3R5\, Canada
CATEGORIES:Art
END:VEVENT
BEGIN:VEVENT
DTSTART;TZID=America/Toronto:20250311T130000
DTEND;TZID=America/Toronto:20250311T150000
DTSTAMP:20260423T024137
CREATED:20250304T163442Z
LAST-MODIFIED:20250304T163442Z
UID:10000812-1741698000-1741705200@seawayseniors.ca
SUMMARY:Seed Starting Workshop
DESCRIPTION:
URL:https://seawayseniors.ca/event/seed-starting-workshop/
LOCATION:Seaway Seniors Club\, 506 Pitt St\, Cornwall\, ON\, K6J 3R5\, Canada
CATEGORIES:Education
END:VEVENT
BEGIN:VEVENT
DTSTART;TZID=America/Toronto:20250305T100000
DTEND;TZID=America/Toronto:20250305T120000
DTSTAMP:20260423T024137
CREATED:20250304T164537Z
LAST-MODIFIED:20250304T164537Z
UID:10000816-1741168800-1741176000@seawayseniors.ca
SUMMARY:One on One Clinic - Government of Canada Programs
DESCRIPTION:
URL:https://seawayseniors.ca/event/one-on-one-clinic-government-of-canada-programs/
LOCATION:Seaway Seniors Club\, 506 Pitt St\, Cornwall\, ON\, K6J 3R5\, Canada
CATEGORIES:Education
END:VEVENT
BEGIN:VEVENT
DTSTART;TZID=America/Toronto:20250304T130000
DTEND;TZID=America/Toronto:20250304T150000
DTSTAMP:20260423T024137
CREATED:20250203T165827Z
LAST-MODIFIED:20250203T165827Z
UID:10000811-1741093200-1741100400@seawayseniors.ca
SUMMARY:Downsizing Made Easy
DESCRIPTION:
URL:https://seawayseniors.ca/event/downsizing-made-easy/
LOCATION:Seaway Seniors Club\, 506 Pitt St\, Cornwall\, ON\, K6J 3R5\, Canada
CATEGORIES:Education
END:VEVENT
BEGIN:VEVENT
DTSTART;TZID=America/Toronto:20250228T083000
DTEND;TZID=America/Toronto:20250228T120000
DTSTAMP:20260423T024137
CREATED:20241107T134500Z
LAST-MODIFIED:20241107T134500Z
UID:10000800-1740731400-1740744000@seawayseniors.ca
SUMMARY:506 Wellness Clinic
DESCRIPTION:
URL:https://seawayseniors.ca/event/506-wellness-clinic-25-02-28/
LOCATION:Seaway Seniors Club\, 506 Pitt St\, Cornwall\, ON\, K6J 3R5\, Canada
CATEGORIES:Health
END:VEVENT
BEGIN:VEVENT
DTSTART;TZID=America/Toronto:20250225T130000
DTEND;TZID=America/Toronto:20250225T130000
DTSTAMP:20260423T024137
CREATED:20250203T165601Z
LAST-MODIFIED:20250203T165601Z
UID:10000810-1740488400-1740488400@seawayseniors.ca
SUMMARY:Community Connections Café - Dementia Information Session
DESCRIPTION:
URL:https://seawayseniors.ca/event/community-connections-cafe-dementia-information-session/
LOCATION:Seaway Seniors Club\, 506 Pitt St\, Cornwall\, ON\, K6J 3R5\, Canada
CATEGORIES:Education,Health
END:VEVENT
BEGIN:VEVENT
DTSTART;TZID=America/Toronto:20250218T170000
DTEND;TZID=America/Toronto:20250218T170000
DTSTAMP:20260423T024137
CREATED:20250203T165055Z
LAST-MODIFIED:20250203T165055Z
UID:10000808-1739898000-1739898000@seawayseniors.ca
SUMMARY:Dinner Party
DESCRIPTION:
URL:https://seawayseniors.ca/event/dinner-party/
LOCATION:Seaway Seniors Club\, 506 Pitt St\, Cornwall\, ON\, K6J 3R5\, Canada
END:VEVENT
BEGIN:VEVENT
DTSTART;TZID=America/Toronto:20250211T130000
DTEND;TZID=America/Toronto:20250211T150000
DTSTAMP:20260423T024137
CREATED:20250203T165425Z
LAST-MODIFIED:20250203T165425Z
UID:10000809-1739278800-1739286000@seawayseniors.ca
SUMMARY:Bring Your Our Buttons
DESCRIPTION:
URL:https://seawayseniors.ca/event/bring-your-our-buttons/
LOCATION:Seaway Seniors Club\, 506 Pitt St\, Cornwall\, ON\, K6J 3R5\, Canada
CATEGORIES:Crafts
END:VEVENT
BEGIN:VEVENT
DTSTART;TZID=America/Toronto:20250204T130000
DTEND;TZID=America/Toronto:20250204T130000
DTSTAMP:20260423T024137
CREATED:20250203T164007Z
LAST-MODIFIED:20250203T164007Z
UID:10000807-1738674000-1738674000@seawayseniors.ca
SUMMARY:Going to Waste Workshop
DESCRIPTION:
URL:https://seawayseniors.ca/event/going-to-waste-workshop/
LOCATION:Seaway Seniors Club\, 506 Pitt St\, Cornwall\, ON\, K6J 3R5\, Canada
CATEGORIES:Environmental
END:VEVENT
BEGIN:VEVENT
DTSTART;TZID=America/Toronto:20250129T100000
DTEND;TZID=America/Toronto:20250129T100000
DTSTAMP:20260423T024137
CREATED:20250107T161558Z
LAST-MODIFIED:20250107T161558Z
UID:10000805-1738144800-1738144800@seawayseniors.ca
SUMMARY:Annual General Meeting
DESCRIPTION:
URL:https://seawayseniors.ca/event/annual-general-meeting/
LOCATION:Seaway Seniors Club\, 506 Pitt St\, Cornwall\, ON\, K6J 3R5\, Canada
CATEGORIES:Board Meeting
END:VEVENT
BEGIN:VEVENT
DTSTART;TZID=America/Toronto:20250114T130000
DTEND;TZID=America/Toronto:20250114T150000
DTSTAMP:20260423T024137
CREATED:20250107T161835Z
LAST-MODIFIED:20250107T161835Z
UID:10000806-1736859600-1736866800@seawayseniors.ca
SUMMARY:Winter Watercolour Painting
DESCRIPTION:
URL:https://seawayseniors.ca/event/winter-watercolour-painting-2/
LOCATION:Seaway Seniors Club\, 506 Pitt St\, Cornwall\, ON\, K6J 3R5\, Canada
CATEGORIES:Art
END:VEVENT
BEGIN:VEVENT
DTSTART;TZID=America/Toronto:20250114T130000
DTEND;TZID=America/Toronto:20250114T150000
DTSTAMP:20260423T024137
CREATED:20241202T163900Z
LAST-MODIFIED:20241202T163900Z
UID:10000803-1736859600-1736866800@seawayseniors.ca
SUMMARY:Winter Watercolour Painting
DESCRIPTION:
URL:https://seawayseniors.ca/event/winter-watercolour-painting/
LOCATION:Seaway Seniors Club\, 506 Pitt St\, Cornwall\, ON\, K6J 3R5\, Canada
CATEGORIES:Art
END:VEVENT
BEGIN:VEVENT
DTSTART;TZID=America/Toronto:20250107T130000
DTEND;TZID=America/Toronto:20250107T150000
DTSTAMP:20260423T024137
CREATED:20250107T161322Z
LAST-MODIFIED:20250107T161358Z
UID:10000804-1736254800-1736262000@seawayseniors.ca
SUMMARY:WHIMSICAL WINTER PAINTING CLASS
DESCRIPTION:
URL:https://seawayseniors.ca/event/whimsical-winter-painting-class/
LOCATION:Seaway Seniors Club\, 506 Pitt St\, Cornwall\, ON\, K6J 3R5\, Canada
CATEGORIES:Art
END:VEVENT
BEGIN:VEVENT
DTSTART;TZID=America/Toronto:20241213T083000
DTEND;TZID=America/Toronto:20241213T120000
DTSTAMP:20260423T024137
CREATED:20241107T134338Z
LAST-MODIFIED:20241107T134359Z
UID:10000799-1734078600-1734091200@seawayseniors.ca
SUMMARY:506 Wellness Clinic
DESCRIPTION:
URL:https://seawayseniors.ca/event/506-wellness-clinic-25-12-13/
LOCATION:Seaway Seniors Club\, 506 Pitt St\, Cornwall\, ON\, K6J 3R5\, Canada
CATEGORIES:Health
END:VEVENT
BEGIN:VEVENT
DTSTART;TZID=America/Toronto:20241211T120000
DTEND;TZID=America/Toronto:20241211T160000
DTSTAMP:20260423T024137
CREATED:20241002T123409Z
LAST-MODIFIED:20241107T132357Z
UID:10000789-1733918400-1733932800@seawayseniors.ca
SUMMARY:Holiday House Tours - Riddell Home
DESCRIPTION:
URL:https://seawayseniors.ca/event/holiday-house-tours/
LOCATION:Seaway Seniors Club\, 506 Pitt St\, Cornwall\, ON\, K6J 3R5\, Canada
CATEGORIES:Fundraising,Social
END:VEVENT
BEGIN:VEVENT
DTSTART;TZID=America/Toronto:20241210T130000
DTEND;TZID=America/Toronto:20241210T160000
DTSTAMP:20260423T024137
CREATED:20241107T132452Z
LAST-MODIFIED:20241107T132452Z
UID:10000793-1733835600-1733846400@seawayseniors.ca
SUMMARY:Holiday House Tours - Grant Home
DESCRIPTION:
URL:https://seawayseniors.ca/event/holiday-house-tours-grant-home/
LOCATION:Seaway Seniors Club\, 506 Pitt St\, Cornwall\, ON\, K6J 3R5\, Canada
CATEGORIES:Fundraising
END:VEVENT
BEGIN:VEVENT
DTSTART;TZID=America/Toronto:20241210T120000
DTEND;TZID=America/Toronto:20241210T160000
DTSTAMP:20260423T024137
CREATED:20241107T132035Z
LAST-MODIFIED:20241107T132131Z
UID:10000792-1733832000-1733846400@seawayseniors.ca
SUMMARY:Holiday House Tours - Riddell Home
DESCRIPTION:
URL:https://seawayseniors.ca/event/holiday-house-tours-riddell/
LOCATION:Seaway Seniors Club\, 506 Pitt St\, Cornwall\, ON\, K6J 3R5\, Canada
CATEGORIES:Fundraising
END:VEVENT
BEGIN:VEVENT
DTSTART;TZID=America/Toronto:20241205T180000
DTEND;TZID=America/Toronto:20241205T200000
DTSTAMP:20260423T024137
CREATED:20241107T133424Z
LAST-MODIFIED:20241202T163308Z
UID:10000797-1733421600-1733428800@seawayseniors.ca
SUMMARY:Paint Party
DESCRIPTION:
URL:https://seawayseniors.ca/event/paint-party-2/
LOCATION:Seaway Seniors Club\, 506 Pitt St\, Cornwall\, ON\, K6J 3R5\, Canada
CATEGORIES:Art
END:VEVENT
BEGIN:VEVENT
DTSTART;TZID=America/Toronto:20241127T100000
DTEND;TZID=America/Toronto:20241127T100000
DTSTAMP:20260423T024137
CREATED:20241107T133644Z
LAST-MODIFIED:20241107T133644Z
UID:10000798-1732701600-1732701600@seawayseniors.ca
SUMMARY:General Meeting
DESCRIPTION:
URL:https://seawayseniors.ca/event/general-meeting-2/
LOCATION:Seaway Seniors Club\, 506 Pitt St\, Cornwall\, ON\, K6J 3R5\, Canada
CATEGORIES:Members Meeting
END:VEVENT
BEGIN:VEVENT
DTSTART;TZID=America/Toronto:20241126T130000
DTEND;TZID=America/Toronto:20241126T150000
DTSTAMP:20260423T024137
CREATED:20241107T133045Z
LAST-MODIFIED:20241107T133054Z
UID:10000795-1732626000-1732633200@seawayseniors.ca
SUMMARY:Christmas Pin Workshop
DESCRIPTION:
URL:https://seawayseniors.ca/event/christmas-pin-workshop/
LOCATION:Seaway Seniors Club\, 506 Pitt St\, Cornwall\, ON\, K6J 3R5\, Canada
CATEGORIES:Art
END:VEVENT
BEGIN:VEVENT
DTSTART;TZID=America/Toronto:20241120T183000
DTEND;TZID=America/Toronto:20241120T210000
DTSTAMP:20260423T024137
CREATED:20241107T133226Z
LAST-MODIFIED:20241107T133226Z
UID:10000796-1732127400-1732136400@seawayseniors.ca
SUMMARY:Stained Glass Workshop
DESCRIPTION:
URL:https://seawayseniors.ca/event/stained-glass-workshop-2024/
LOCATION:Seaway Seniors Club\, 506 Pitt St\, Cornwall\, ON\, K6J 3R5\, Canada
CATEGORIES:Art
END:VEVENT
BEGIN:VEVENT
DTSTART;TZID=America/Toronto:20241119T130000
DTEND;TZID=America/Toronto:20241119T150000
DTSTAMP:20260423T024137
CREATED:20241107T132901Z
LAST-MODIFIED:20241107T132901Z
UID:10000794-1732021200-1732028400@seawayseniors.ca
SUMMARY:Word / Excel Q & A Session
DESCRIPTION:
URL:https://seawayseniors.ca/event/word-excel-q-a-session/
LOCATION:Seaway Seniors Club\, 506 Pitt St\, Cornwall\, ON\, K6J 3R5\, Canada
CATEGORIES:Education
END:VEVENT
BEGIN:VEVENT
DTSTART;TZID=America/Toronto:20241112T130000
DTEND;TZID=America/Toronto:20241112T150000
DTSTAMP:20260423T024137
CREATED:20241106T212954Z
LAST-MODIFIED:20241106T212954Z
UID:10000791-1731416400-1731423600@seawayseniors.ca
SUMMARY:Book Lovers Cafe
DESCRIPTION:
URL:https://seawayseniors.ca/event/book-lovers-cafe/
LOCATION:Seaway Seniors Club\, 506 Pitt St\, Cornwall\, ON\, K6J 3R5\, Canada
CATEGORIES:Leisure
END:VEVENT
END:VCALENDAR