BEGIN:VCALENDAR
VERSION:2.0
PRODID:-//Seaway Senior Citizens Club - ECPv6.15.20//NONSGML v1.0//EN
CALSCALE:GREGORIAN
METHOD:PUBLISH
X-WR-CALNAME:Seaway Senior Citizens Club
X-ORIGINAL-URL:https://seawayseniors.ca
X-WR-CALDESC:Events for Seaway Senior Citizens Club
REFRESH-INTERVAL;VALUE=DURATION:PT1H
X-Robots-Tag:noindex
X-PUBLISHED-TTL:PT1H
BEGIN:VTIMEZONE
TZID:America/Toronto
BEGIN:DAYLIGHT
TZOFFSETFROM:-0500
TZOFFSETTO:-0400
TZNAME:EDT
DTSTART:20230312T070000
END:DAYLIGHT
BEGIN:STANDARD
TZOFFSETFROM:-0400
TZOFFSETTO:-0500
TZNAME:EST
DTSTART:20231105T060000
END:STANDARD
BEGIN:DAYLIGHT
TZOFFSETFROM:-0500
TZOFFSETTO:-0400
TZNAME:EDT
DTSTART:20240310T070000
END:DAYLIGHT
BEGIN:STANDARD
TZOFFSETFROM:-0400
TZOFFSETTO:-0500
TZNAME:EST
DTSTART:20241103T060000
END:STANDARD
BEGIN:DAYLIGHT
TZOFFSETFROM:-0500
TZOFFSETTO:-0400
TZNAME:EDT
DTSTART:20250309T070000
END:DAYLIGHT
BEGIN:STANDARD
TZOFFSETFROM:-0400
TZOFFSETTO:-0500
TZNAME:EST
DTSTART:20251102T060000
END:STANDARD
END:VTIMEZONE
BEGIN:VEVENT
DTSTART;TZID=America/Toronto:20241205T180000
DTEND;TZID=America/Toronto:20241205T200000
DTSTAMP:20260423T061030
CREATED:20241107T133424Z
LAST-MODIFIED:20241202T163308Z
UID:10000797-1733421600-1733428800@seawayseniors.ca
SUMMARY:Paint Party
DESCRIPTION:
URL:https://seawayseniors.ca/event/paint-party-2/
LOCATION:Seaway Seniors Club\, 506 Pitt St\, Cornwall\, ON\, K6J 3R5\, Canada
CATEGORIES:Art
END:VEVENT
BEGIN:VEVENT
DTSTART;TZID=America/Toronto:20241127T100000
DTEND;TZID=America/Toronto:20241127T100000
DTSTAMP:20260423T061030
CREATED:20241107T133644Z
LAST-MODIFIED:20241107T133644Z
UID:10000798-1732701600-1732701600@seawayseniors.ca
SUMMARY:General Meeting
DESCRIPTION:
URL:https://seawayseniors.ca/event/general-meeting-2/
LOCATION:Seaway Seniors Club\, 506 Pitt St\, Cornwall\, ON\, K6J 3R5\, Canada
CATEGORIES:Members Meeting
END:VEVENT
BEGIN:VEVENT
DTSTART;TZID=America/Toronto:20241126T130000
DTEND;TZID=America/Toronto:20241126T150000
DTSTAMP:20260423T061030
CREATED:20241107T133045Z
LAST-MODIFIED:20241107T133054Z
UID:10000795-1732626000-1732633200@seawayseniors.ca
SUMMARY:Christmas Pin Workshop
DESCRIPTION:
URL:https://seawayseniors.ca/event/christmas-pin-workshop/
LOCATION:Seaway Seniors Club\, 506 Pitt St\, Cornwall\, ON\, K6J 3R5\, Canada
CATEGORIES:Art
END:VEVENT
BEGIN:VEVENT
DTSTART;TZID=America/Toronto:20241120T183000
DTEND;TZID=America/Toronto:20241120T210000
DTSTAMP:20260423T061030
CREATED:20241107T133226Z
LAST-MODIFIED:20241107T133226Z
UID:10000796-1732127400-1732136400@seawayseniors.ca
SUMMARY:Stained Glass Workshop
DESCRIPTION:
URL:https://seawayseniors.ca/event/stained-glass-workshop-2024/
LOCATION:Seaway Seniors Club\, 506 Pitt St\, Cornwall\, ON\, K6J 3R5\, Canada
CATEGORIES:Art
END:VEVENT
BEGIN:VEVENT
DTSTART;TZID=America/Toronto:20241119T130000
DTEND;TZID=America/Toronto:20241119T150000
DTSTAMP:20260423T061030
CREATED:20241107T132901Z
LAST-MODIFIED:20241107T132901Z
UID:10000794-1732021200-1732028400@seawayseniors.ca
SUMMARY:Word / Excel Q & A Session
DESCRIPTION:
URL:https://seawayseniors.ca/event/word-excel-q-a-session/
LOCATION:Seaway Seniors Club\, 506 Pitt St\, Cornwall\, ON\, K6J 3R5\, Canada
CATEGORIES:Education
END:VEVENT
BEGIN:VEVENT
DTSTART;TZID=America/Toronto:20241112T130000
DTEND;TZID=America/Toronto:20241112T150000
DTSTAMP:20260423T061030
CREATED:20241106T212954Z
LAST-MODIFIED:20241106T212954Z
UID:10000791-1731416400-1731423600@seawayseniors.ca
SUMMARY:Book Lovers Cafe
DESCRIPTION:
URL:https://seawayseniors.ca/event/book-lovers-cafe/
LOCATION:Seaway Seniors Club\, 506 Pitt St\, Cornwall\, ON\, K6J 3R5\, Canada
CATEGORIES:Leisure
END:VEVENT
BEGIN:VEVENT
DTSTART;TZID=America/Toronto:20241109T100000
DTEND;TZID=America/Toronto:20241109T150000
DTSTAMP:20260423T061030
CREATED:20241002T123630Z
LAST-MODIFIED:20241002T123630Z
UID:10000790-1731146400-1731164400@seawayseniors.ca
SUMMARY:Silver Snowflake Art and Craft Sale
DESCRIPTION:
URL:https://seawayseniors.ca/event/silver-snowflake-art-and-craft-sale/
LOCATION:Seaway Seniors Club\, 506 Pitt St\, Cornwall\, ON\, K6J 3R5\, Canada
CATEGORIES:Art,Fundraising
END:VEVENT
BEGIN:VEVENT
DTSTART;TZID=America/Toronto:20241022T083000
DTEND;TZID=America/Toronto:20241022T120000
DTSTAMP:20260423T061030
CREATED:20241001T202719Z
LAST-MODIFIED:20241001T202719Z
UID:10000787-1729585800-1729598400@seawayseniors.ca
SUMMARY:506 Wellness Clinic
DESCRIPTION:
URL:https://seawayseniors.ca/event/506-wellness-clinic-3/
LOCATION:Seaway Seniors Club\, 506 Pitt St\, Cornwall\, ON\, K6J 3R5\, Canada
CATEGORIES:Health
END:VEVENT
BEGIN:VEVENT
DTSTART;TZID=America/Toronto:20241016T100000
DTEND;TZID=America/Toronto:20241016T120000
DTSTAMP:20260423T061030
CREATED:20241001T202927Z
LAST-MODIFIED:20241001T202937Z
UID:10000788-1729072800-1729080000@seawayseniors.ca
SUMMARY:Service Canada One on One Appointments
DESCRIPTION:
URL:https://seawayseniors.ca/event/service-canada-one-on-one-appointments/
LOCATION:Seaway Seniors Club\, 506 Pitt St\, Cornwall\, ON\, K6J 3R5\, Canada
CATEGORIES:Education
END:VEVENT
BEGIN:VEVENT
DTSTART;TZID=America/Toronto:20241015T130000
DTEND;TZID=America/Toronto:20241015T150000
DTSTAMP:20260423T061030
CREATED:20240917T124649Z
LAST-MODIFIED:20240917T124649Z
UID:10000786-1728997200-1729004400@seawayseniors.ca
SUMMARY:Painting in Watercolour
DESCRIPTION:
URL:https://seawayseniors.ca/event/painting-in-watercolour/
LOCATION:Seaway Seniors Club\, 506 Pitt St\, Cornwall\, ON\, K6J 3R5\, Canada
CATEGORIES:Art
END:VEVENT
BEGIN:VEVENT
DTSTART;TZID=America/Toronto:20240924T130000
DTEND;TZID=America/Toronto:20240924T150000
DTSTAMP:20260423T061030
CREATED:20240828T191619Z
LAST-MODIFIED:20240828T191701Z
UID:10000783-1727182800-1727190000@seawayseniors.ca
SUMMARY:Painting Flowers in Watercolour
DESCRIPTION:
URL:https://seawayseniors.ca/event/painting-flowers-in-watercolour/
LOCATION:Seaway Seniors Club\, 506 Pitt St\, Cornwall\, ON\, K6J 3R5\, Canada
CATEGORIES:Art
END:VEVENT
BEGIN:VEVENT
DTSTART;TZID=America/Toronto:20240920T110000
DTEND;TZID=America/Toronto:20240920T110000
DTSTAMP:20260423T061031
CREATED:20240917T124421Z
LAST-MODIFIED:20240917T124421Z
UID:10000785-1726830000-1726830000@seawayseniors.ca
SUMMARY:Recognition Event Knowing / Growing Accessible Garden
DESCRIPTION:
URL:https://seawayseniors.ca/event/recognition-event-knowing-growing-accessible-garden/
LOCATION:Seaway Seniors Club\, 506 Pitt St\, Cornwall\, ON\, K6J 3R5\, Canada
CATEGORIES:Environmental,Social
END:VEVENT
BEGIN:VEVENT
DTSTART;TZID=America/Toronto:20240917T130000
DTEND;TZID=America/Toronto:20240917T130000
DTSTAMP:20260423T061031
CREATED:20240828T184432Z
LAST-MODIFIED:20240828T184432Z
UID:10000779-1726578000-1726578000@seawayseniors.ca
SUMMARY:Community Connections Café
DESCRIPTION:
URL:https://seawayseniors.ca/event/community-connections-cafe/
LOCATION:Seaway Seniors Club\, 506 Pitt St\, Cornwall\, ON\, K6J 3R5\, Canada
CATEGORIES:Social
END:VEVENT
BEGIN:VEVENT
DTSTART;TZID=America/Toronto:20240916T130000
DTEND;TZID=America/Toronto:20240916T130000
DTSTAMP:20260423T061031
CREATED:20240828T191901Z
LAST-MODIFIED:20240828T191901Z
UID:10000784-1726491600-1726491600@seawayseniors.ca
SUMMARY:Melody on the Move
DESCRIPTION:
URL:https://seawayseniors.ca/event/melody-on-the-move/
LOCATION:Seaway Seniors Club\, 506 Pitt St\, Cornwall\, ON\, K6J 3R5\, Canada
CATEGORIES:Music
END:VEVENT
BEGIN:VEVENT
DTSTART;TZID=America/Toronto:20240914T100000
DTEND;TZID=America/Toronto:20240914T150000
DTSTAMP:20260423T061031
CREATED:20240806T142158Z
LAST-MODIFIED:20240806T142158Z
UID:10000777-1726308000-1726326000@seawayseniors.ca
SUMMARY:Harvest BBQ Arts & Crafts Show
DESCRIPTION:
URL:https://seawayseniors.ca/event/harvest-bbq-arts-crafts-show/
LOCATION:Seaway Seniors Club\, 506 Pitt St\, Cornwall\, ON\, K6J 3R5\, Canada
CATEGORIES:Leisure
END:VEVENT
BEGIN:VEVENT
DTSTART;TZID=America/Toronto:20240911T083000
DTEND;TZID=America/Toronto:20240911T153000
DTSTAMP:20260423T061031
CREATED:20240806T142338Z
LAST-MODIFIED:20240806T142338Z
UID:10000778-1726043400-1726068600@seawayseniors.ca
SUMMARY:Explore Thompson Island Cultural Camp in Akwesasne
DESCRIPTION:
URL:https://seawayseniors.ca/event/explore-thompson-island-cultural-camp-in-akwesasne/
LOCATION:Seaway Seniors Club\, 506 Pitt St\, Cornwall\, ON\, K6J 3R5\, Canada
CATEGORIES:Education
END:VEVENT
BEGIN:VEVENT
DTSTART;TZID=America/Toronto:20240906T101500
DTEND;TZID=America/Toronto:20240906T101500
DTSTAMP:20260423T061031
CREATED:20240828T191134Z
LAST-MODIFIED:20240828T191134Z
UID:10000781-1725617700-1725617700@seawayseniors.ca
SUMMARY:Drums Alive
DESCRIPTION:
URL:https://seawayseniors.ca/event/drums-alive/
LOCATION:Seaway Seniors Club\, 506 Pitt St\, Cornwall\, ON\, K6J 3R5\, Canada
CATEGORIES:Music
END:VEVENT
BEGIN:VEVENT
DTSTART;TZID=America/Toronto:20240906T090000
DTEND;TZID=America/Toronto:20240906T100000
DTSTAMP:20260423T061031
CREATED:20240828T191506Z
LAST-MODIFIED:20240828T191506Z
UID:10000782-1725613200-1725616800@seawayseniors.ca
SUMMARY:Meditation Class
DESCRIPTION:
URL:https://seawayseniors.ca/event/meditation-class/
LOCATION:Seaway Seniors Club\, 506 Pitt St\, Cornwall\, ON\, K6J 3R5\, Canada
CATEGORIES:Health
END:VEVENT
BEGIN:VEVENT
DTSTART;TZID=America/Toronto:20240813T110000
DTEND;TZID=America/Toronto:20240813T140000
DTSTAMP:20260423T061031
CREATED:20240704T135618Z
LAST-MODIFIED:20240704T135618Z
UID:10000774-1723546800-1723557600@seawayseniors.ca
SUMMARY:All You Can Eat Corn Roast
DESCRIPTION:
URL:https://seawayseniors.ca/event/all-you-can-eat-corn-roast/
LOCATION:Seaway Seniors Club\, 506 Pitt St\, Cornwall\, ON\, K6J 3R5\, Canada
CATEGORIES:Meals
END:VEVENT
BEGIN:VEVENT
DTSTART;TZID=America/Toronto:20240809T083000
DTEND;TZID=America/Toronto:20240809T120000
DTSTAMP:20260423T061031
CREATED:20240704T140015Z
LAST-MODIFIED:20240704T140015Z
UID:10000776-1723192200-1723204800@seawayseniors.ca
SUMMARY:506 Wellness Clinic
DESCRIPTION:
URL:https://seawayseniors.ca/event/506-wellness-clinic-2/
LOCATION:Seaway Seniors Club\, 506 Pitt St\, Cornwall\, ON\, K6J 3R5\, Canada
END:VEVENT
BEGIN:VEVENT
DTSTART;TZID=America/Toronto:20240723T100000
DTEND;TZID=America/Toronto:20240723T100000
DTSTAMP:20260423T061031
CREATED:20240604T151849Z
LAST-MODIFIED:20240604T151849Z
UID:10000771-1721728800-1721728800@seawayseniors.ca
SUMMARY:General Membership Meeting
DESCRIPTION:
URL:https://seawayseniors.ca/event/general-membership-meeting-2/
LOCATION:Seaway Seniors Club\, 506 Pitt St\, Cornwall\, ON\, K6J 3R5\, Canada
CATEGORIES:Members Meeting
END:VEVENT
BEGIN:VEVENT
DTSTART;TZID=America/Toronto:20240716T130000
DTEND;TZID=America/Toronto:20240716T130000
DTSTAMP:20260423T061031
CREATED:20240704T135504Z
LAST-MODIFIED:20240704T135504Z
UID:10000773-1721134800-1721134800@seawayseniors.ca
SUMMARY:Flower Arranging
DESCRIPTION:
URL:https://seawayseniors.ca/event/flower-arranging/
LOCATION:Seaway Seniors Club\, 506 Pitt St\, Cornwall\, ON\, K6J 3R5\, Canada
CATEGORIES:Education
END:VEVENT
BEGIN:VEVENT
DTSTART;TZID=America/Toronto:20240709T130000
DTEND;TZID=America/Toronto:20240709T130000
DTSTAMP:20260423T061031
CREATED:20240704T135359Z
LAST-MODIFIED:20240704T135359Z
UID:10000772-1720530000-1720530000@seawayseniors.ca
SUMMARY:Composting 101
DESCRIPTION:
URL:https://seawayseniors.ca/event/composting-101/
LOCATION:Seaway Seniors Club\, 506 Pitt St\, Cornwall\, ON\, K6J 3R5\, Canada
CATEGORIES:Education,Environmental
END:VEVENT
BEGIN:VEVENT
DTSTART;TZID=America/Toronto:20240625T140000
DTEND;TZID=America/Toronto:20240625T160000
DTSTAMP:20260423T061031
CREATED:20240506T132206Z
LAST-MODIFIED:20240506T132206Z
UID:10000767-1719324000-1719331200@seawayseniors.ca
SUMMARY:Strawberry Social
DESCRIPTION:
URL:https://seawayseniors.ca/event/strawberry-social/
LOCATION:Seaway Seniors Club\, 506 Pitt St\, Cornwall\, ON\, K6J 3R5\, Canada
CATEGORIES:Social
END:VEVENT
BEGIN:VEVENT
DTSTART;TZID=America/Toronto:20240618T130000
DTEND;TZID=America/Toronto:20240618T130000
DTSTAMP:20260423T061031
CREATED:20240604T140130Z
LAST-MODIFIED:20240604T140130Z
UID:10000768-1718715600-1718715600@seawayseniors.ca
SUMMARY:Lost Villages Presentation
DESCRIPTION:
URL:https://seawayseniors.ca/event/lost-villages-presentation/
LOCATION:Seaway Seniors Club\, 506 Pitt St\, Cornwall\, ON\, K6J 3R5\, Canada
CATEGORIES:Education
END:VEVENT
BEGIN:VEVENT
DTSTART;VALUE=DATE:20240617
DTEND;VALUE=DATE:20240622
DTSTAMP:20260423T061031
CREATED:20240604T151753Z
LAST-MODIFIED:20240604T151753Z
UID:10000770-1718582400-1719014399@seawayseniors.ca
SUMMARY:Free activities all week!
DESCRIPTION:
URL:https://seawayseniors.ca/event/free-activities-all-week/
LOCATION:Seaway Seniors Club\, 506 Pitt St\, Cornwall\, ON\, K6J 3R5\, Canada
CATEGORIES:Social
END:VEVENT
BEGIN:VEVENT
DTSTART;TZID=America/Toronto:20240528T130000
DTEND;TZID=America/Toronto:20240528T160000
DTSTAMP:20260423T061031
CREATED:20240502T180512Z
LAST-MODIFIED:20240502T180512Z
UID:10000764-1716901200-1716912000@seawayseniors.ca
SUMMARY:Paint Party
DESCRIPTION:
URL:https://seawayseniors.ca/event/paint-party-may-2024/
LOCATION:Seaway Seniors Club\, 506 Pitt St\, Cornwall\, ON\, K6J 3R5\, Canada
CATEGORIES:Art
END:VEVENT
BEGIN:VEVENT
DTSTART;TZID=America/Toronto:20240507T133000
DTEND;TZID=America/Toronto:20240507T150000
DTSTAMP:20260423T061031
CREATED:20240415T154920Z
LAST-MODIFIED:20240415T154920Z
UID:10000762-1715088600-1715094000@seawayseniors.ca
SUMMARY:Garden Project Information Knowing Growing Session
DESCRIPTION:
URL:https://seawayseniors.ca/event/garden-project-information-knowing-growing-session/
LOCATION:Seaway Seniors Club\, 506 Pitt St\, Cornwall\, ON\, K6J 3R5\, Canada
CATEGORIES:Education,Environmental
END:VEVENT
BEGIN:VEVENT
DTSTART;TZID=America/Toronto:20240427T100000
DTEND;TZID=America/Toronto:20240427T130000
DTSTAMP:20260423T061031
CREATED:20240415T155103Z
LAST-MODIFIED:20240415T155103Z
UID:10000763-1714212000-1714222800@seawayseniors.ca
SUMMARY:Darleen's Sugarbush Breakfast
DESCRIPTION:
URL:https://seawayseniors.ca/event/darleens-sugarbush-breakfast/
LOCATION:Seaway Seniors Club\, 506 Pitt St\, Cornwall\, ON\, K6J 3R5\, Canada
CATEGORIES:Meals
END:VEVENT
BEGIN:VEVENT
DTSTART;TZID=America/Toronto:20240425T190000
DTEND;TZID=America/Toronto:20240425T210000
DTSTAMP:20260423T061031
CREATED:20240304T144837Z
LAST-MODIFIED:20240304T144837Z
UID:10000757-1714071600-1714078800@seawayseniors.ca
SUMMARY:Stained Glass Workshop
DESCRIPTION:
URL:https://seawayseniors.ca/event/stained-glass-workshop/
LOCATION:Seaway Seniors Club\, 506 Pitt St\, Cornwall\, ON\, K6J 3R5\, Canada
CATEGORIES:Art
END:VEVENT
END:VCALENDAR